Package: ExperimentHub Version: 2.15.0 Command: /home/rapidbuild/bbs-3.21-bioc-rapid/R/bin/R CMD INSTALL ExperimentHub StartedAt: 2025-02-17 12:17:20 -0500 (Mon, 17 Feb 2025) EndedAt: 2025-02-17 12:17:31 -0500 (Mon, 17 Feb 2025) EllapsedTime: 11.4 seconds RetCode: 0 Status: OK