Package: ExperimentHub Version: 2.15.0 Command: /home/rapidbuild/bbs-3.21-bioc-rapid/R/bin/R CMD build --keep-empty-dirs --no-resave-data ExperimentHub StartedAt: 2025-02-17 12:44:20 -0500 (Mon, 17 Feb 2025) EndedAt: 2025-02-17 12:44:45 -0500 (Mon, 17 Feb 2025) EllapsedTime: 25.0 seconds RetCode: 0 Status: OK PackageFile: ExperimentHub_2.15.0.tar.gz PackageFileSize: 489 KiB