Package: DropletUtils Version: 1.27.2 Command: /home/rapidbuild/bbs-3.21-bioc-rapid/R/bin/R CMD INSTALL DropletUtils StartedAt: 2025-02-17 12:19:38 -0500 (Mon, 17 Feb 2025) EndedAt: 2025-02-17 12:20:33 -0500 (Mon, 17 Feb 2025) EllapsedTime: 55.3 seconds RetCode: 0 Status: OK