Package: CompoundDb Version: 1.11.2 Command: /home/rapidbuild/bbs-3.21-bioc-rapid/R/bin/R CMD INSTALL CompoundDb StartedAt: 2025-02-10 06:18:51 -0500 (Mon, 10 Feb 2025) EndedAt: 2025-02-10 06:19:07 -0500 (Mon, 10 Feb 2025) EllapsedTime: 15.6 seconds RetCode: 0 Status: OK