Package: Category Version: 2.73.0 Command: /home/rapidbuild/bbs-3.21-bioc-rapid/R/bin/R CMD build --keep-empty-dirs --no-resave-data Category StartedAt: 2025-02-10 06:41:45 -0500 (Mon, 10 Feb 2025) EndedAt: 2025-02-10 06:42:48 -0500 (Mon, 10 Feb 2025) EllapsedTime: 62.9 seconds RetCode: 0 Status: OK PackageFile: Category_2.73.0.tar.gz PackageFileSize: 873.8 KiB