Package: BiocStyle Version: 2.35.0 Command: /home/rapidbuild/bbs-3.21-bioc-rapid/R/bin/R CMD build --keep-empty-dirs --no-resave-data BiocStyle StartedAt: 2025-02-21 12:33:52 -0500 (Fri, 21 Feb 2025) EndedAt: 2025-02-21 12:34:01 -0500 (Fri, 21 Feb 2025) EllapsedTime: 9.0 seconds RetCode: 0 Status: OK PackageFile: BiocStyle_2.35.0.tar.gz PackageFileSize: 885.2 KiB