Package: BiocParallel Version: 1.41.0 Command: /home/rapidbuild/bbs-3.21-bioc-rapid/R/bin/R CMD check --install=check:BiocParallel.install-out.txt --library=/home/rapidbuild/bbs-3.21-bioc-rapid/R/site-library --timings BiocParallel_1.41.0.tar.gz StartedAt: 2025-02-06 08:03:38 -0500 (Thu, 06 Feb 2025) EndedAt: 2025-02-06 08:11:04 -0500 (Thu, 06 Feb 2025) EllapsedTime: 446.0 seconds RetCode: 0 Status: OK CheckDir: BiocParallel.Rcheck Warnings: 0