Package: BiocGenerics Version: 0.53.6 Command: /home/rapidbuild/bbs-3.21-bioc-rapid/R/bin/R CMD INSTALL BiocGenerics StartedAt: 2025-02-20 12:08:48 -0500 (Thu, 20 Feb 2025) EndedAt: 2025-02-20 12:08:51 -0500 (Thu, 20 Feb 2025) EllapsedTime: 3.2 seconds RetCode: 0 Status: OK