Package: BSgenomeForge Version: 1.7.0 Command: /home/rapidbuild/bbs-3.21-bioc-rapid/R/bin/R CMD INSTALL BSgenomeForge StartedAt: 2025-02-11 06:23:58 -0500 (Tue, 11 Feb 2025) EndedAt: 2025-02-11 06:24:25 -0500 (Tue, 11 Feb 2025) EllapsedTime: 27.4 seconds RetCode: 0 Status: OK