Package: BSgenomeForge Version: 1.7.0 Command: /home/rapidbuild/bbs-3.21-bioc-rapid/R/bin/R CMD build --keep-empty-dirs --no-resave-data BSgenomeForge StartedAt: 2025-02-11 06:38:25 -0500 (Tue, 11 Feb 2025) EndedAt: 2025-02-11 06:39:21 -0500 (Tue, 11 Feb 2025) EllapsedTime: 55.9 seconds RetCode: 0 Status: OK PackageFile: BSgenomeForge_1.7.0.tar.gz PackageFileSize: 693.9 KiB