Package: AnnotationHub Version: 3.15.0 Command: /home/rapidbuild/bbs-3.21-bioc-rapid/R/bin/R CMD INSTALL AnnotationHub StartedAt: 2025-02-06 06:19:41 -0500 (Thu, 06 Feb 2025) EndedAt: 2025-02-06 06:19:58 -0500 (Thu, 06 Feb 2025) EllapsedTime: 16.6 seconds RetCode: 0 Status: OK