Package: AnnotationHub Version: 3.15.0 Command: /home/rapidbuild/bbs-3.21-bioc-rapid/R/bin/R CMD build --keep-empty-dirs --no-resave-data AnnotationHub StartedAt: 2025-02-06 06:33:24 -0500 (Thu, 06 Feb 2025) EndedAt: 2025-02-06 06:35:08 -0500 (Thu, 06 Feb 2025) EllapsedTime: 104.9 seconds RetCode: 0 Status: OK PackageFile: AnnotationHub_3.15.0.tar.gz PackageFileSize: 976.2 KiB