Package: ChemmineOB Version: 1.47.1 Command: /home/rapidbuild/bbs-3.22-bioc-rapid/R/bin/R CMD check --install=check:ChemmineOB.install-out.txt --library=/home/rapidbuild/bbs-3.22-bioc-rapid/R/site-library --timings ChemmineOB_1.47.1.tar.gz StartedAt: 2025-06-17 20:12:43 -0400 (Tue, 17 Jun 2025) EndedAt: 2025-06-17 20:14:01 -0400 (Tue, 17 Jun 2025) EllapsedTime: 78.7 seconds RetCode: 0 Status: WARNINGS CheckDir: ChemmineOB.Rcheck Warnings: 3