All our mirrors of open source software are available via http, https, ftp and an onion service. More information about our mirrors including statistics and contact information is available on our mirror info pages.
For information about dotsrc.org and our other services please go to our website.
| File Name ↓ | File Size ↓ | Date ↓ |
|---|---|---|
| Parent directory/ | - | - |
| TENxIO/ | - | 2025-06-18 03:39:17 |
| snpStats/ | - | 2025-06-18 03:39:17 |
| vsn/ | - | 2025-06-18 03:39:17 |
| widgetTools/ | - | 2025-06-18 03:39:17 |
| zellkonverter/ | - | 2025-06-18 03:39:17 |
| seqLogo/ | - | 2025-06-18 03:39:17 |
| tkWidgets/ | - | 2025-06-18 03:39:17 |
| tximport/ | - | 2025-06-18 03:39:17 |
| treeio/ | - | 2025-06-18 03:39:17 |
| scuttle/ | - | 2025-06-18 03:39:17 |
| sparseMatrixStats/ | - | 2025-06-18 03:39:17 |
| snifter/ | - | 2025-06-18 03:39:17 |
| tximeta/ | - | 2025-06-18 03:39:17 |
| sesame/ | - | 2025-06-18 03:39:17 |
| biocmake/ | - | 2025-06-18 03:39:17 |
| xcms/ | - | 2025-06-18 03:39:17 |
| txdbmaker/ | - | 2025-06-18 03:39:17 |
| sva/ | - | 2025-06-18 03:39:17 |
| VisiumIO/ | - | 2025-06-18 03:39:17 |
| zlibbioc/ | - | 2025-06-18 03:39:17 |
| BiocPkgTools/ | - | 2025-06-18 03:39:17 |
| UCSC.utils/ | - | 2025-06-18 03:39:16 |
| mzID/ | - | 2025-06-18 03:39:16 |
| beachmat/ | - | 2025-06-18 03:39:16 |
| pathview/ | - | 2025-06-18 03:39:16 |
| glmGamPoi/ | - | 2025-06-18 03:39:16 |
| annotate/ | - | 2025-06-18 03:39:16 |
| basilisk.utils/ | - | 2025-06-18 03:39:16 |
| aroma.light/ | - | 2025-06-18 03:39:16 |
| Wrench/ | - | 2025-06-18 03:39:16 |
| affy/ | - | 2025-06-18 03:39:16 |
| illuminaio/ | - | 2025-06-18 03:39:16 |
| preprocessCore/ | - | 2025-06-18 03:39:16 |
| qvalue/ | - | 2025-06-18 03:39:16 |
| h5mread/ | - | 2025-06-18 03:39:16 |
| TCGAbiolinks/ | - | 2025-06-18 03:39:16 |
| biovizBase/ | - | 2025-06-18 03:39:16 |
| scater/ | - | 2025-06-18 03:39:16 |
| ggcyto/ | - | 2025-06-18 03:39:16 |
| gdsfmt/ | - | 2025-06-18 03:39:16 |
| mbkmeans/ | - | 2025-06-18 03:39:16 |
| SingleR/ | - | 2025-06-18 03:39:16 |
| alabaster.se/ | - | 2025-06-18 03:39:16 |
| SpatialExperiment/ | - | 2025-06-18 03:39:16 |
| hpar/ | - | 2025-06-18 03:39:16 |
| alabaster.schemas/ | - | 2025-06-18 03:39:16 |
| beachmat.hdf5/ | - | 2025-06-18 03:39:16 |
| maftools/ | - | 2025-06-18 03:39:16 |
| bamsignals/ | - | 2025-06-18 03:39:16 |
| bluster/ | - | 2025-06-18 03:39:16 |
| assorthead/ | - | 2025-06-18 03:39:16 |
| ggtreeExtra/ | - | 2025-06-18 03:39:16 |
| ggbio/ | - | 2025-06-18 03:39:16 |
| biomaRt/ | - | 2025-06-18 03:39:16 |
| regioneR/ | - | 2025-06-18 03:39:16 |
| affxparser/ | - | 2025-06-18 03:39:16 |
| VariantAnnotation/ | - | 2025-06-18 03:39:16 |
| flowClust/ | - | 2025-06-18 03:39:16 |
| lpsymphony/ | - | 2025-06-18 03:39:16 |
| minet/ | - | 2025-06-18 03:39:16 |
| basilisk/ | - | 2025-06-18 03:39:16 |
| genefilter/ | - | 2025-06-18 03:39:16 |
| enrichplot/ | - | 2025-06-18 03:39:16 |
| chihaya/ | - | 2025-06-18 03:39:16 |
| affyio/ | - | 2025-06-18 03:39:16 |
| alabaster.sce/ | - | 2025-06-18 03:39:16 |
| ggtree/ | - | 2025-06-18 03:39:16 |
| microRNA/ | - | 2025-06-18 03:39:16 |
| gage/ | - | 2025-06-18 03:39:16 |
| flowCore/ | - | 2025-06-18 03:39:16 |
| gypsum/ | - | 2025-06-18 03:39:16 |
| csaw/ | - | 2025-06-18 03:39:16 |
| scrapper/ | - | 2025-06-18 03:39:16 |
| metagenomeSeq/ | - | 2025-06-18 03:39:16 |
| alabaster.base/ | - | 2025-06-18 03:39:16 |
| fmcsR/ | - | 2025-06-18 03:39:16 |
| karyoploteR/ | - | 2025-06-18 03:39:16 |
| multtest/ | - | 2025-06-18 03:39:16 |
| rBiopaxParser/ | - | 2025-06-18 03:39:16 |
| pcaMethods/ | - | 2025-06-18 03:39:16 |
| rtracklayer/ | - | 2025-06-18 03:39:16 |
| biocViews/ | - | 2025-06-18 03:39:16 |
| ensembldb/ | - | 2025-06-18 03:39:16 |
| keggorthology/ | - | 2025-06-18 03:39:16 |
| limma/ | - | 2025-06-18 03:39:16 |
| SparseArray/ | - | 2025-06-18 03:39:16 |
| rols/ | - | 2025-06-18 03:39:16 |
| XVector/ | - | 2025-06-18 03:39:16 |
| metapod/ | - | 2025-06-18 03:39:16 |
| mzR/ | - | 2025-06-18 03:39:16 |
| Spectra/ | - | 2025-06-18 03:39:16 |
| rhdf5filters/ | - | 2025-06-18 03:39:16 |
| geneplotter/ | - | 2025-06-18 03:39:16 |
| densvis/ | - | 2025-06-18 03:39:16 |
| gpls/ | - | 2025-06-18 03:39:16 |
| dir.expiry/ | - | 2025-06-18 03:39:16 |
| cytolib/ | - | 2025-06-18 03:39:16 |
| scran/ | - | 2025-06-18 03:39:16 |
| affyPLM/ | - | 2025-06-18 03:39:16 |
| clusterProfiler/ | - | 2025-06-18 03:39:16 |
| pwalign/ | - | 2025-06-18 03:39:16 |
| interactiveDisplay/ | - | 2025-06-18 03:39:16 |
| interactiveDisplayBase/ | - | 2025-06-18 03:39:16 |
| batchelor/ | - | 2025-06-18 03:39:16 |
| openCyto/ | - | 2025-06-18 03:39:16 |
| graph/ | - | 2025-06-18 03:39:16 |
| edgeR/ | - | 2025-06-18 03:39:16 |
| biocthis/ | - | 2025-06-18 03:39:16 |
| flowWorkspace/ | - | 2025-06-18 03:39:16 |
| apeglm/ | - | 2025-06-18 03:39:16 |
| alabaster.matrix/ | - | 2025-06-18 03:39:16 |
| rpx/ | - | 2025-06-18 03:39:16 |
| flowStats/ | - | 2025-06-18 03:39:16 |
| fgsea/ | - | 2025-06-18 03:39:16 |
| eds/ | - | 2025-06-18 03:39:16 |
| rhdf5/ | - | 2025-06-18 03:39:16 |
| gcrma/ | - | 2025-06-18 03:39:16 |
| ncdfFlow/ | - | 2025-06-18 03:39:16 |
| biomformat/ | - | 2025-06-18 03:39:16 |
| fishpond/ | - | 2025-06-18 03:39:16 |
| SingleCellExperiment/ | - | 2025-06-18 03:39:16 |
| phyloseq/ | - | 2025-06-18 03:39:16 |
| pRoloc/ | - | 2025-06-18 03:39:16 |
| flowViz/ | - | 2025-06-18 03:39:16 |
| impute/ | - | 2025-06-18 03:39:16 |
| SummarizedExperiment/ | - | 2025-06-18 03:39:16 |
| alabaster.ranges/ | - | 2025-06-18 03:39:16 |
| MatrixGenerics/ | - | 2025-06-18 03:39:15 |
| MultiAssayExperiment/ | - | 2025-06-18 03:39:15 |
| GenomeInfoDb/ | - | 2025-06-18 03:39:15 |
| OrganismDbi/ | - | 2025-06-18 03:39:15 |
| GenomicAlignments/ | - | 2025-06-18 03:39:15 |
| KEGGREST/ | - | 2025-06-18 03:39:15 |
| DelayedArray/ | - | 2025-06-18 03:39:15 |
| GOSemSim/ | - | 2025-06-18 03:39:15 |
| DNAcopy/ | - | 2025-06-18 03:39:15 |
| MetaboCoreUtils/ | - | 2025-06-18 03:39:15 |
| MLInterfaces/ | - | 2025-06-18 03:39:15 |
| ConsensusClusterPlus/ | - | 2025-06-18 03:39:15 |
| Rsamtools/ | - | 2025-06-18 03:39:15 |
| EnrichedHeatmap/ | - | 2025-06-18 03:39:15 |
| MsBackendSql/ | - | 2025-06-18 03:39:15 |
| DEXSeq/ | - | 2025-06-18 03:39:15 |
| HubPub/ | - | 2025-06-18 03:39:15 |
| RProtoBufLib/ | - | 2025-06-18 03:39:15 |
| ComplexHeatmap/ | - | 2025-06-18 03:39:15 |
| MsDataHub/ | - | 2025-06-18 03:39:15 |
| Rhdf5lib/ | - | 2025-06-18 03:39:15 |
| HDF5Array/ | - | 2025-06-18 03:39:15 |
| DynDoc/ | - | 2025-06-18 03:39:15 |
| KEGGgraph/ | - | 2025-06-18 03:39:15 |
| DropletUtils/ | - | 2025-06-18 03:39:15 |
| BiocSingular/ | - | 2025-06-18 03:39:15 |
| LoomExperiment/ | - | 2025-06-18 03:39:15 |
| Rhtslib/ | - | 2025-06-18 03:39:15 |
| DelayedMatrixStats/ | - | 2025-06-18 03:39:15 |
| DESeq2/ | - | 2025-06-18 03:39:15 |
| ExperimentHub/ | - | 2025-06-18 03:39:15 |
| GenomicRanges/ | - | 2025-06-18 03:39:15 |
| ProtGenerics/ | - | 2025-06-18 03:39:15 |
| MsBackendMgf/ | - | 2025-06-18 03:39:15 |
| IHW/ | - | 2025-06-18 03:39:15 |
| Gviz/ | - | 2025-06-18 03:39:15 |
| QFeatures/ | - | 2025-06-18 03:39:15 |
| RBGL/ | - | 2025-06-18 03:39:15 |
| GOstats/ | - | 2025-06-18 03:39:15 |
| PSMatch/ | - | 2025-06-18 03:39:15 |
| DOSE/ | - | 2025-06-18 03:39:15 |
| BiocStyle/ | - | 2025-06-18 03:39:15 |
| BiocParallel/ | - | 2025-06-18 03:39:15 |
| EBImage/ | - | 2025-06-18 03:39:15 |
| DECIPHER/ | - | 2025-06-18 03:39:15 |
| Rigraphlib/ | - | 2025-06-18 03:39:15 |
| S4Vectors/ | - | 2025-06-18 03:39:15 |
| S4Arrays/ | - | 2025-06-18 03:39:15 |
| MsFeatures/ | - | 2025-06-18 03:39:15 |
| BiocIO/ | - | 2025-06-18 03:39:15 |
| ShortRead/ | - | 2025-06-18 03:39:15 |
| MsExperiment/ | - | 2025-06-18 03:39:15 |
| SPIA/ | - | 2025-06-18 03:39:15 |
| ROC/ | - | 2025-06-18 03:39:15 |
| ChemmineOB/ | - | 2025-06-18 03:39:15 |
| MassSpecWavelet/ | - | 2025-06-18 03:39:15 |
| ScaledMatrix/ | - | 2025-06-18 03:39:15 |
| Rsubread/ | - | 2025-06-18 03:39:15 |
| ResidualMatrix/ | - | 2025-06-18 03:39:15 |
| EDASeq/ | - | 2025-06-18 03:39:15 |
| MsCoreUtils/ | - | 2025-06-18 03:39:15 |
| EnhancedVolcano/ | - | 2025-06-18 03:39:15 |
| Rdisop/ | - | 2025-06-18 03:39:15 |
| EBarrays/ | - | 2025-06-18 03:39:15 |
| IRanges/ | - | 2025-06-18 03:39:15 |
| GSEABase/ | - | 2025-06-18 03:39:15 |
| Category/ | - | 2025-06-18 03:39:15 |
| ExperimentHubData/ | - | 2025-06-18 03:39:15 |
| GenomicFeatures/ | - | 2025-06-18 03:39:15 |
| BiocNeighbors/ | - | 2025-06-18 03:39:15 |
| BumpyMatrix/ | - | 2025-06-18 03:39:15 |
| MSnbase/ | - | 2025-06-18 03:39:15 |
| CytoML/ | - | 2025-06-18 03:39:15 |
| Biostrings/ | - | 2025-06-18 03:39:15 |
| BiocVersion/ | - | 2025-06-18 03:39:15 |
| ChemmineR/ | - | 2025-06-18 03:39:15 |
| GSVA/ | - | 2025-06-18 03:39:15 |
| DirichletMultinomial/ | - | 2025-06-18 03:39:15 |
| Rgraphviz/ | - | 2025-06-18 03:39:15 |
| ReportingTools/ | - | 2025-06-18 03:39:15 |
| CompoundDb/ | - | 2025-06-18 03:39:15 |
| RaggedExperiment/ | - | 2025-06-18 03:39:15 |
| GEOquery/ | - | 2025-06-18 03:39:15 |
| BiocCheck/ | - | 2025-06-18 03:39:14 |
| BSgenomeForge/ | - | 2025-06-18 03:39:14 |
| AnnotationHubData/ | - | 2025-06-18 03:39:14 |
| AnnotationDbi/ | - | 2025-06-18 03:39:14 |
| BiocBaseUtils/ | - | 2025-06-18 03:39:14 |
| AnnotationFilter/ | - | 2025-06-18 03:39:14 |
| BiocGenerics/ | - | 2025-06-18 03:39:14 |
| BSgenome/ | - | 2025-06-18 03:39:14 |
| AnnotationHub/ | - | 2025-06-18 03:39:14 |
| Biobase/ | - | 2025-06-18 03:39:14 |
| BiocFileCache/ | - | 2025-06-18 03:39:14 |
| AnnotationForge/ | - | 2025-06-18 03:39:14 |
| index.html | 236.9 KiB | 2025-06-18 03:39:17 |
| report.tgz | 4.2 MiB | 2025-06-18 03:39:17 |
| Renviron.bioc | 3.3 KiB | 2025-06-18 03:39:17 |
| report.js | 6.0 KiB | 2025-06-18 03:39:17 |
| 120px-Red_Light_Icon.svg.png | 7.0 KiB | 2025-06-18 03:39:17 |
| teran2-R-instpkgs.html | 116.1 KiB | 2025-06-18 03:39:17 |
| 120px-Green_Light_Icon.svg.png | 7.1 KiB | 2025-06-18 03:39:17 |
| skipped-index.dcf | 0 B | 2025-06-18 03:39:17 |
| teran2-NodeInfo.html | 7.0 KiB | 2025-06-18 03:39:17 |
| report.css | 11.4 KiB | 2025-06-18 03:39:17 |
| meat-index.dcf | 23.9 KiB | 2025-06-18 03:39:14 |
| DEVEL3b.png | 2.6 KiB | 2025-06-18 03:39:14 |
| BUILD_STATUS_DB.txt | 19.9 KiB | 2025-06-18 03:39:14 |
| 120px-Blue_Light_Icon.svg.png | 7.1 KiB | 2025-06-18 03:39:14 |