| Back to Rapid builds (Linux only) of a subset of BioC 3.22 Report updated every 6 hours |
This page was generated on 2025-07-24 09:37 -0400 (Thu, 24 Jul 2025).
LibPath Version Built
abind /media/volume/teran2_disk/rapidbuild/bbs-3.22-bioc-rapid/R/site-library 1.4-8 4.5.0
ada /media/volume/teran2_disk/rapidbuild/bbs-3.22-bioc-rapid/R/site-library 2.0-5 4.5.0
ade4 /media/volume/teran2_disk/rapidbuild/bbs-3.22-bioc-rapid/R/site-library 1.7-23 4.5.0
affxparser /media/volume/teran2_disk/rapidbuild/bbs-3.22-bioc-rapid/R/site-library 1.81.0 4.5.0
affy /media/volume/teran2_disk/rapidbuild/bbs-3.22-bioc-rapid/R/site-library 1.87.0 4.5.0
affydata /media/volume/teran2_disk/rapidbuild/bbs-3.22-bioc-rapid/R/site-library 1.57.0 4.5.0
affyio /media/volume/teran2_disk/rapidbuild/bbs-3.22-bioc-rapid/R/site-library 1.79.0 4.5.0
AffymetrixDataTestFiles /media/volume/teran2_disk/rapidbuild/bbs-3.22-bioc-rapid/R/site-library 0.47.0 4.5.0
affyPLM /media/volume/teran2_disk/rapidbuild/bbs-3.22-bioc-rapid/R/site-library 1.85.0 4.5.0
aggregation /media/volume/teran2_disk/rapidbuild/bbs-3.22-bioc-rapid/R/site-library 1.0.1 4.5.0
airway /media/volume/teran2_disk/rapidbuild/bbs-3.22-bioc-rapid/R/site-library 1.29.0 4.5.0
akima /media/volume/teran2_disk/rapidbuild/bbs-3.22-bioc-rapid/R/site-library 0.6-3.6 4.5.0
alabaster.base /media/volume/teran2_disk/rapidbuild/bbs-3.22-bioc-rapid/R/site-library 1.9.4 4.5.0
alabaster.matrix /media/volume/teran2_disk/rapidbuild/bbs-3.22-bioc-rapid/R/site-library 1.9.0 4.5.0
alabaster.ranges /media/volume/teran2_disk/rapidbuild/bbs-3.22-bioc-rapid/R/site-library 1.9.1 4.5.0
alabaster.sce /media/volume/teran2_disk/rapidbuild/bbs-3.22-bioc-rapid/R/site-library 1.9.0 4.5.0
alabaster.schemas /media/volume/teran2_disk/rapidbuild/bbs-3.22-bioc-rapid/R/site-library 1.9.0 4.5.0
alabaster.se /media/volume/teran2_disk/rapidbuild/bbs-3.22-bioc-rapid/R/site-library 1.9.0 4.5.0
ALL /media/volume/teran2_disk/rapidbuild/bbs-3.22-bioc-rapid/R/site-library 1.51.0 4.5.0
anndata /media/volume/teran2_disk/rapidbuild/bbs-3.22-bioc-rapid/R/site-library 0.8.0 4.5.0
annotate /media/volume/teran2_disk/rapidbuild/bbs-3.22-bioc-rapid/R/site-library 1.87.0 4.5.0
AnnotationDbi /media/volume/teran2_disk/rapidbuild/bbs-3.22-bioc-rapid/R/site-library 1.71.0 4.5.0
AnnotationFilter /media/volume/teran2_disk/rapidbuild/bbs-3.22-bioc-rapid/R/site-library 1.33.0 4.5.0
AnnotationForge /media/volume/teran2_disk/rapidbuild/bbs-3.22-bioc-rapid/R/site-library 1.51.0 4.5.0
AnnotationHub /media/volume/teran2_disk/rapidbuild/bbs-3.22-bioc-rapid/R/site-library 3.99.6 4.5.0
AnnotationHubData /media/volume/teran2_disk/rapidbuild/bbs-3.22-bioc-rapid/R/site-library 1.39.2 4.5.0
apcluster /media/volume/teran2_disk/rapidbuild/bbs-3.22-bioc-rapid/R/site-library 1.4.13 4.5.0
ape /media/volume/teran2_disk/rapidbuild/bbs-3.22-bioc-rapid/R/site-library 5.8-1 4.5.0
apeglm /media/volume/teran2_disk/rapidbuild/bbs-3.22-bioc-rapid/R/site-library 1.31.0 4.5.0
aplot /media/volume/teran2_disk/rapidbuild/bbs-3.22-bioc-rapid/R/site-library 0.2.8 4.5.0
aroma.light /media/volume/teran2_disk/rapidbuild/bbs-3.22-bioc-rapid/R/site-library 3.39.0 4.5.0
arrow /media/volume/teran2_disk/rapidbuild/bbs-3.22-bioc-rapid/R/site-library 20.0.0.2 4.5.0
ash /media/volume/teran2_disk/rapidbuild/bbs-3.22-bioc-rapid/R/site-library 1.0-15 4.5.0
ashr /media/volume/teran2_disk/rapidbuild/bbs-3.22-bioc-rapid/R/site-library 2.2-63 4.5.0
askpass /media/volume/teran2_disk/rapidbuild/bbs-3.22-bioc-rapid/R/site-library 1.2.1 4.5.0
assertthat /media/volume/teran2_disk/rapidbuild/bbs-3.22-bioc-rapid/R/site-library 0.2.1 4.5.0
assorthead /media/volume/teran2_disk/rapidbuild/bbs-3.22-bioc-rapid/R/site-library 1.3.5 4.5.0
available /media/volume/teran2_disk/rapidbuild/bbs-3.22-bioc-rapid/R/site-library 1.1.0 4.5.0
aws.s3 /media/volume/teran2_disk/rapidbuild/bbs-3.22-bioc-rapid/R/site-library 0.3.21 4.5.0
aws.signature /media/volume/teran2_disk/rapidbuild/bbs-3.22-bioc-rapid/R/site-library 0.6.0 4.5.0
babelgene /media/volume/teran2_disk/rapidbuild/bbs-3.22-bioc-rapid/R/site-library 22.9 4.5.0
backports /media/volume/teran2_disk/rapidbuild/bbs-3.22-bioc-rapid/R/site-library 1.5.0 4.5.0
bamsignals /media/volume/teran2_disk/rapidbuild/bbs-3.22-bioc-rapid/R/site-library 1.41.2 4.5.0
base64 /media/volume/teran2_disk/rapidbuild/bbs-3.22-bioc-rapid/R/site-library 2.0.2 4.5.0
base64enc /media/volume/teran2_disk/rapidbuild/bbs-3.22-bioc-rapid/R/site-library 0.1-3 4.5.0
base64url /media/volume/teran2_disk/rapidbuild/bbs-3.22-bioc-rapid/R/site-library 1.4 4.5.0
basilisk /media/volume/teran2_disk/rapidbuild/bbs-3.22-bioc-rapid/R/site-library 1.21.5 4.5.0
basilisk.utils /media/volume/teran2_disk/rapidbuild/bbs-3.22-bioc-rapid/R/site-library 1.21.2 4.5.0
batchelor /media/volume/teran2_disk/rapidbuild/bbs-3.22-bioc-rapid/R/site-library 1.25.0 4.5.0
batchtools /media/volume/teran2_disk/rapidbuild/bbs-3.22-bioc-rapid/R/site-library 0.9.17 4.5.0
BBmisc /media/volume/teran2_disk/rapidbuild/bbs-3.22-bioc-rapid/R/site-library 1.13 4.5.0
bbmle /media/volume/teran2_disk/rapidbuild/bbs-3.22-bioc-rapid/R/site-library 1.0.25.1 4.5.0
bdsmatrix /media/volume/teran2_disk/rapidbuild/bbs-3.22-bioc-rapid/R/site-library 1.3-7 4.5.0
beachmat /media/volume/teran2_disk/rapidbuild/bbs-3.22-bioc-rapid/R/site-library 2.25.3 4.5.0
beachmat.hdf5 /media/volume/teran2_disk/rapidbuild/bbs-3.22-bioc-rapid/R/site-library 1.7.1 4.5.0
beanplot /media/volume/teran2_disk/rapidbuild/bbs-3.22-bioc-rapid/R/site-library 1.3.1 4.5.0
beeswarm /media/volume/teran2_disk/rapidbuild/bbs-3.22-bioc-rapid/R/site-library 0.4.0 4.5.0
bench /media/volume/teran2_disk/rapidbuild/bbs-3.22-bioc-rapid/R/site-library 1.1.4 4.5.0
benchmarkme /media/volume/teran2_disk/rapidbuild/bbs-3.22-bioc-rapid/R/site-library 1.0.8 4.5.0
benchmarkmeData /media/volume/teran2_disk/rapidbuild/bbs-3.22-bioc-rapid/R/site-library 1.0.4 4.5.0
berryFunctions /media/volume/teran2_disk/rapidbuild/bbs-3.22-bioc-rapid/R/site-library 1.22.5 4.5.0
bezier /media/volume/teran2_disk/rapidbuild/bbs-3.22-bioc-rapid/R/site-library 1.1.2 4.5.0
BH /media/volume/teran2_disk/rapidbuild/bbs-3.22-bioc-rapid/R/site-library 1.87.0-1 4.5.0
BiasedUrn /media/volume/teran2_disk/rapidbuild/bbs-3.22-bioc-rapid/R/site-library 2.0.12 4.5.0
bibtex /media/volume/teran2_disk/rapidbuild/bbs-3.22-bioc-rapid/R/site-library 0.5.1 4.5.0
Biobase /media/volume/teran2_disk/rapidbuild/bbs-3.22-bioc-rapid/R/site-library 2.69.0 4.5.0
BiocBaseUtils /media/volume/teran2_disk/rapidbuild/bbs-3.22-bioc-rapid/R/site-library 1.11.2 4.5.0
BiocCheck /media/volume/teran2_disk/rapidbuild/bbs-3.22-bioc-rapid/R/site-library 1.45.11 4.5.0
BiocFileCache /media/volume/teran2_disk/rapidbuild/bbs-3.22-bioc-rapid/R/site-library 2.99.5 4.5.0
BiocGenerics /media/volume/teran2_disk/rapidbuild/bbs-3.22-bioc-rapid/R/site-library 0.55.0 4.5.0
BiocIO /media/volume/teran2_disk/rapidbuild/bbs-3.22-bioc-rapid/R/site-library 1.19.0 4.5.0
biocmake /media/volume/teran2_disk/rapidbuild/bbs-3.22-bioc-rapid/R/site-library 1.1.3 4.5.0
BiocManager /media/volume/teran2_disk/rapidbuild/bbs-3.22-bioc-rapid/R/site-library 1.30.26 4.5.0
BiocNeighbors /media/volume/teran2_disk/rapidbuild/bbs-3.22-bioc-rapid/R/site-library 2.3.1 4.5.0
BiocParallel /media/volume/teran2_disk/rapidbuild/bbs-3.22-bioc-rapid/R/site-library 1.43.4 4.5.0
BiocPkgTools /media/volume/teran2_disk/rapidbuild/bbs-3.22-bioc-rapid/R/site-library 1.27.9 4.5.0
BiocSingular /media/volume/teran2_disk/rapidbuild/bbs-3.22-bioc-rapid/R/site-library 1.25.0 4.5.0
BiocStyle /media/volume/teran2_disk/rapidbuild/bbs-3.22-bioc-rapid/R/site-library 2.37.0 4.5.0
biocthis /media/volume/teran2_disk/rapidbuild/bbs-3.22-bioc-rapid/R/site-library 1.19.0 4.5.0
BiocVersion /media/volume/teran2_disk/rapidbuild/bbs-3.22-bioc-rapid/R/site-library 3.22.0 4.5.0
biocViews /media/volume/teran2_disk/rapidbuild/bbs-3.22-bioc-rapid/R/site-library 1.77.2 4.5.0
biomaRt /media/volume/teran2_disk/rapidbuild/bbs-3.22-bioc-rapid/R/site-library 2.65.0 4.5.0
biomformat /media/volume/teran2_disk/rapidbuild/bbs-3.22-bioc-rapid/R/site-library 1.37.0 4.5.0
Biostrings /media/volume/teran2_disk/rapidbuild/bbs-3.22-bioc-rapid/R/site-library 2.77.2 4.5.0
biovizBase /media/volume/teran2_disk/rapidbuild/bbs-3.22-bioc-rapid/R/site-library 1.57.1 4.5.0
bit /media/volume/teran2_disk/rapidbuild/bbs-3.22-bioc-rapid/R/site-library 4.6.0 4.5.0
bit64 /media/volume/teran2_disk/rapidbuild/bbs-3.22-bioc-rapid/R/site-library 4.6.0-1 4.5.0
bitops /media/volume/teran2_disk/rapidbuild/bbs-3.22-bioc-rapid/R/site-library 1.0-9 4.5.0
bladderbatch /media/volume/teran2_disk/rapidbuild/bbs-3.22-bioc-rapid/R/site-library 1.47.0 4.5.0
blastula /media/volume/teran2_disk/rapidbuild/bbs-3.22-bioc-rapid/R/site-library 0.3.6 4.5.0
blob /media/volume/teran2_disk/rapidbuild/bbs-3.22-bioc-rapid/R/site-library 1.2.4 4.5.0
bluster /media/volume/teran2_disk/rapidbuild/bbs-3.22-bioc-rapid/R/site-library 1.19.0 4.5.0
bookdown /media/volume/teran2_disk/rapidbuild/bbs-3.22-bioc-rapid/R/site-library 0.43 4.5.0
brew /media/volume/teran2_disk/rapidbuild/bbs-3.22-bioc-rapid/R/site-library 1.0-10 4.5.0
brio /media/volume/teran2_disk/rapidbuild/bbs-3.22-bioc-rapid/R/site-library 1.1.5 4.5.0
broom /media/volume/teran2_disk/rapidbuild/bbs-3.22-bioc-rapid/R/site-library 1.0.8 4.5.0
BSgenome /media/volume/teran2_disk/rapidbuild/bbs-3.22-bioc-rapid/R/site-library 1.77.1 4.5.0
BSgenome.Celegans.UCSC.ce11 /media/volume/teran2_disk/rapidbuild/bbs-3.22-bioc-rapid/R/site-library 1.4.2 4.5.0
BSgenome.Celegans.UCSC.ce2 /media/volume/teran2_disk/rapidbuild/bbs-3.22-bioc-rapid/R/site-library 1.4.0 4.5.0
BSgenome.Dmelanogaster.UCSC.dm3 /media/volume/teran2_disk/rapidbuild/bbs-3.22-bioc-rapid/R/site-library 1.4.0 4.5.0
BSgenome.Drerio.UCSC.danRer10 /media/volume/teran2_disk/rapidbuild/bbs-3.22-bioc-rapid/R/site-library 1.4.2 4.5.0
BSgenome.Ggallus.UCSC.galGal3 /media/volume/teran2_disk/rapidbuild/bbs-3.22-bioc-rapid/R/site-library 1.4.0 4.5.0
BSgenome.Hsapiens.NCBI.GRCh38 /media/volume/teran2_disk/rapidbuild/bbs-3.22-bioc-rapid/R/site-library 1.3.1000 4.5.0
BSgenome.Hsapiens.UCSC.hg18 /media/volume/teran2_disk/rapidbuild/bbs-3.22-bioc-rapid/R/site-library 1.3.1000 4.5.0
BSgenome.Hsapiens.UCSC.hg19 /media/volume/teran2_disk/rapidbuild/bbs-3.22-bioc-rapid/R/site-library 1.4.3 4.5.0
BSgenome.Hsapiens.UCSC.hg19.masked /media/volume/teran2_disk/rapidbuild/bbs-3.22-bioc-rapid/R/site-library 1.3.993 4.5.0
BSgenome.Hsapiens.UCSC.hg38 /media/volume/teran2_disk/rapidbuild/bbs-3.22-bioc-rapid/R/site-library 1.4.5 4.5.0
BSgenome.Hsapiens.UCSC.hg38.masked /media/volume/teran2_disk/rapidbuild/bbs-3.22-bioc-rapid/R/site-library 1.4.5 4.5.0
BSgenome.Mmusculus.UCSC.mm10 /media/volume/teran2_disk/rapidbuild/bbs-3.22-bioc-rapid/R/site-library 1.4.3 4.5.0
BSgenome.Rnorvegicus.UCSC.rn5 /media/volume/teran2_disk/rapidbuild/bbs-3.22-bioc-rapid/R/site-library 1.4.0 4.5.0
BSgenome.Scerevisiae.UCSC.sacCer1 /media/volume/teran2_disk/rapidbuild/bbs-3.22-bioc-rapid/R/site-library 1.4.0 4.5.0
BSgenome.Scerevisiae.UCSC.sacCer2 /media/volume/teran2_disk/rapidbuild/bbs-3.22-bioc-rapid/R/site-library 1.4.0 4.5.0
BSgenomeForge /media/volume/teran2_disk/rapidbuild/bbs-3.22-bioc-rapid/R/site-library 1.9.1 4.5.0
bslib /media/volume/teran2_disk/rapidbuild/bbs-3.22-bioc-rapid/R/site-library 0.9.0 4.5.0
bsseq /media/volume/teran2_disk/rapidbuild/bbs-3.22-bioc-rapid/R/site-library 1.45.2 4.5.0
bsseqData /media/volume/teran2_disk/rapidbuild/bbs-3.22-bioc-rapid/R/site-library 0.47.0 4.5.0
bumphunter /media/volume/teran2_disk/rapidbuild/bbs-3.22-bioc-rapid/R/site-library 1.51.1 4.5.0
BumpyMatrix /media/volume/teran2_disk/rapidbuild/bbs-3.22-bioc-rapid/R/site-library 1.17.0 4.5.0
c3net /media/volume/teran2_disk/rapidbuild/bbs-3.22-bioc-rapid/R/site-library 1.1.1.1 4.5.0
cachem /media/volume/teran2_disk/rapidbuild/bbs-3.22-bioc-rapid/R/site-library 1.1.0 4.5.0
Cairo /media/volume/teran2_disk/rapidbuild/bbs-3.22-bioc-rapid/R/site-library 1.6-2 4.5.0
callr /media/volume/teran2_disk/rapidbuild/bbs-3.22-bioc-rapid/R/site-library 3.7.6 4.5.0
car /media/volume/teran2_disk/rapidbuild/bbs-3.22-bioc-rapid/R/site-library 3.1-3 4.5.0
carData /media/volume/teran2_disk/rapidbuild/bbs-3.22-bioc-rapid/R/site-library 3.0-5 4.5.0
caret /media/volume/teran2_disk/rapidbuild/bbs-3.22-bioc-rapid/R/site-library 7.0-1 4.5.0
Category /media/volume/teran2_disk/rapidbuild/bbs-3.22-bioc-rapid/R/site-library 2.75.0 4.5.0
caTools /media/volume/teran2_disk/rapidbuild/bbs-3.22-bioc-rapid/R/site-library 1.18.3 4.5.0
celldex /media/volume/teran2_disk/rapidbuild/bbs-3.22-bioc-rapid/R/site-library 1.19.0 4.5.0
checkmate /media/volume/teran2_disk/rapidbuild/bbs-3.22-bioc-rapid/R/site-library 2.3.2 4.5.0
ChemmineDrugs /media/volume/teran2_disk/rapidbuild/bbs-3.22-bioc-rapid/R/site-library 1.0.2 4.5.0
ChemmineOB /media/volume/teran2_disk/rapidbuild/bbs-3.22-bioc-rapid/R/site-library 1.47.4 4.5.0
ChemmineR /media/volume/teran2_disk/rapidbuild/bbs-3.22-bioc-rapid/R/site-library 3.61.1 4.5.0
chihaya /media/volume/teran2_disk/rapidbuild/bbs-3.22-bioc-rapid/R/site-library 1.9.0 4.5.0
circlize /media/volume/teran2_disk/rapidbuild/bbs-3.22-bioc-rapid/R/site-library 0.4.16 4.5.0
classInt /media/volume/teran2_disk/rapidbuild/bbs-3.22-bioc-rapid/R/site-library 0.4-11 4.5.0
cli /media/volume/teran2_disk/rapidbuild/bbs-3.22-bioc-rapid/R/site-library 3.6.5 4.5.0
clipr /media/volume/teran2_disk/rapidbuild/bbs-3.22-bioc-rapid/R/site-library 0.8.0 4.5.0
clisymbols /media/volume/teran2_disk/rapidbuild/bbs-3.22-bioc-rapid/R/site-library 1.2.0 4.5.0
clock /media/volume/teran2_disk/rapidbuild/bbs-3.22-bioc-rapid/R/site-library 0.7.3 4.5.0
clue /media/volume/teran2_disk/rapidbuild/bbs-3.22-bioc-rapid/R/site-library 0.3-66 4.5.0
clusterProfiler /media/volume/teran2_disk/rapidbuild/bbs-3.22-bioc-rapid/R/site-library 4.17.0 4.5.0
ClusterR /media/volume/teran2_disk/rapidbuild/bbs-3.22-bioc-rapid/R/site-library 1.3.3 4.5.0
coda /media/volume/teran2_disk/rapidbuild/bbs-3.22-bioc-rapid/R/site-library 0.19-4.1 4.5.0
coin /media/volume/teran2_disk/rapidbuild/bbs-3.22-bioc-rapid/R/site-library 1.4-3 4.5.0
colorspace /media/volume/teran2_disk/rapidbuild/bbs-3.22-bioc-rapid/R/site-library 2.1-1 4.5.0
combinat /media/volume/teran2_disk/rapidbuild/bbs-3.22-bioc-rapid/R/site-library 0.0-8 4.5.0
commonmark /media/volume/teran2_disk/rapidbuild/bbs-3.22-bioc-rapid/R/site-library 2.0.0 4.5.0
ComplexHeatmap /media/volume/teran2_disk/rapidbuild/bbs-3.22-bioc-rapid/R/site-library 2.25.2 4.5.0
CompoundDb /media/volume/teran2_disk/rapidbuild/bbs-3.22-bioc-rapid/R/site-library 1.13.0 4.5.0
config /media/volume/teran2_disk/rapidbuild/bbs-3.22-bioc-rapid/R/site-library 0.3.2 4.5.0
ConsensusClusterPlus /media/volume/teran2_disk/rapidbuild/bbs-3.22-bioc-rapid/R/site-library 1.73.0 4.5.0
corpcor /media/volume/teran2_disk/rapidbuild/bbs-3.22-bioc-rapid/R/site-library 1.6.10 4.5.0
corrplot /media/volume/teran2_disk/rapidbuild/bbs-3.22-bioc-rapid/R/site-library 0.95 4.5.0
covr /media/volume/teran2_disk/rapidbuild/bbs-3.22-bioc-rapid/R/site-library 3.6.4 4.5.0
cowplot /media/volume/teran2_disk/rapidbuild/bbs-3.22-bioc-rapid/R/site-library 1.2.0 4.5.0
cpp11 /media/volume/teran2_disk/rapidbuild/bbs-3.22-bioc-rapid/R/site-library 0.5.2 4.5.0
crayon /media/volume/teran2_disk/rapidbuild/bbs-3.22-bioc-rapid/R/site-library 1.5.3 4.5.0
credentials /media/volume/teran2_disk/rapidbuild/bbs-3.22-bioc-rapid/R/site-library 2.0.2 4.5.0
crosstalk /media/volume/teran2_disk/rapidbuild/bbs-3.22-bioc-rapid/R/site-library 1.2.1 4.5.0
crul /media/volume/teran2_disk/rapidbuild/bbs-3.22-bioc-rapid/R/site-library 1.6.0 4.5.0
csaw /media/volume/teran2_disk/rapidbuild/bbs-3.22-bioc-rapid/R/site-library 1.43.1 4.5.0
curl /media/volume/teran2_disk/rapidbuild/bbs-3.22-bioc-rapid/R/site-library 6.4.0 4.5.0
cytolib /media/volume/teran2_disk/rapidbuild/bbs-3.22-bioc-rapid/R/site-library 2.21.0 4.5.0
CytoML /media/volume/teran2_disk/rapidbuild/bbs-3.22-bioc-rapid/R/site-library 2.21.0 4.5.0
data.table /media/volume/teran2_disk/rapidbuild/bbs-3.22-bioc-rapid/R/site-library 1.17.8 4.5.0
data.tree /media/volume/teran2_disk/rapidbuild/bbs-3.22-bioc-rapid/R/site-library 1.1.0 4.5.0
DBI /media/volume/teran2_disk/rapidbuild/bbs-3.22-bioc-rapid/R/site-library 1.2.3 4.5.0
dbplyr /media/volume/teran2_disk/rapidbuild/bbs-3.22-bioc-rapid/R/site-library 2.5.0 4.5.0
DECIPHER /media/volume/teran2_disk/rapidbuild/bbs-3.22-bioc-rapid/R/site-library 3.5.0 4.5.0
DelayedArray /media/volume/teran2_disk/rapidbuild/bbs-3.22-bioc-rapid/R/site-library 0.35.2 4.5.0
DelayedMatrixStats /media/volume/teran2_disk/rapidbuild/bbs-3.22-bioc-rapid/R/site-library 1.31.0 4.5.0
deldir /media/volume/teran2_disk/rapidbuild/bbs-3.22-bioc-rapid/R/site-library 2.0-4 4.5.0
dendextend /media/volume/teran2_disk/rapidbuild/bbs-3.22-bioc-rapid/R/site-library 1.19.1 4.5.0
dendsort /media/volume/teran2_disk/rapidbuild/bbs-3.22-bioc-rapid/R/site-library 0.3.4 4.5.0
densvis /media/volume/teran2_disk/rapidbuild/bbs-3.22-bioc-rapid/R/site-library 1.19.0 4.5.0
DEoptimR /media/volume/teran2_disk/rapidbuild/bbs-3.22-bioc-rapid/R/site-library 1.1-3-1 4.5.0
Deriv /media/volume/teran2_disk/rapidbuild/bbs-3.22-bioc-rapid/R/site-library 4.2.0 4.5.0
desc /media/volume/teran2_disk/rapidbuild/bbs-3.22-bioc-rapid/R/site-library 1.4.3 4.5.0
DESeq2 /media/volume/teran2_disk/rapidbuild/bbs-3.22-bioc-rapid/R/site-library 1.49.2 4.5.0
deSolve /media/volume/teran2_disk/rapidbuild/bbs-3.22-bioc-rapid/R/site-library 1.40 4.5.0
devtools /media/volume/teran2_disk/rapidbuild/bbs-3.22-bioc-rapid/R/site-library 2.4.5 4.5.0
DEXSeq /media/volume/teran2_disk/rapidbuild/bbs-3.22-bioc-rapid/R/site-library 1.55.1 4.5.0
diagram /media/volume/teran2_disk/rapidbuild/bbs-3.22-bioc-rapid/R/site-library 1.6.5 4.5.0
DiagrammeR /media/volume/teran2_disk/rapidbuild/bbs-3.22-bioc-rapid/R/site-library 1.0.11 4.5.0
dichromat /media/volume/teran2_disk/rapidbuild/bbs-3.22-bioc-rapid/R/site-library 2.0-0.1 4.5.0
diffobj /media/volume/teran2_disk/rapidbuild/bbs-3.22-bioc-rapid/R/site-library 0.3.6 4.5.0
digest /media/volume/teran2_disk/rapidbuild/bbs-3.22-bioc-rapid/R/site-library 0.6.37 4.5.0
diptest /media/volume/teran2_disk/rapidbuild/bbs-3.22-bioc-rapid/R/site-library 0.77-1 4.5.0
dir.expiry /media/volume/teran2_disk/rapidbuild/bbs-3.22-bioc-rapid/R/site-library 1.17.0 4.5.0
DirichletMultinomial /media/volume/teran2_disk/rapidbuild/bbs-3.22-bioc-rapid/R/site-library 1.51.0 4.5.0
DNAcopy /media/volume/teran2_disk/rapidbuild/bbs-3.22-bioc-rapid/R/site-library 1.83.0 4.5.0
DO.db /media/volume/teran2_disk/rapidbuild/bbs-3.22-bioc-rapid/R/site-library 2.9 4.5.0
doBy /media/volume/teran2_disk/rapidbuild/bbs-3.22-bioc-rapid/R/site-library 4.7.0 4.5.0
doParallel /media/volume/teran2_disk/rapidbuild/bbs-3.22-bioc-rapid/R/site-library 1.0.17 4.5.0
doRNG /media/volume/teran2_disk/rapidbuild/bbs-3.22-bioc-rapid/R/site-library 1.8.6.2 4.5.0
DOSE /media/volume/teran2_disk/rapidbuild/bbs-3.22-bioc-rapid/R/site-library 4.3.0 4.5.0
dotCall64 /media/volume/teran2_disk/rapidbuild/bbs-3.22-bioc-rapid/R/site-library 1.2 4.5.0
downlit /media/volume/teran2_disk/rapidbuild/bbs-3.22-bioc-rapid/R/site-library 0.4.4 4.5.0
downloader /media/volume/teran2_disk/rapidbuild/bbs-3.22-bioc-rapid/R/site-library 0.4.1 4.5.0
dplyr /media/volume/teran2_disk/rapidbuild/bbs-3.22-bioc-rapid/R/site-library 1.1.4 4.5.0
dqrng /media/volume/teran2_disk/rapidbuild/bbs-3.22-bioc-rapid/R/site-library 0.4.1 4.5.0
DropletTestFiles /media/volume/teran2_disk/rapidbuild/bbs-3.22-bioc-rapid/R/site-library 1.19.0 4.5.0
DropletUtils /media/volume/teran2_disk/rapidbuild/bbs-3.22-bioc-rapid/R/site-library 1.29.4 4.5.0
drosophila2probe /media/volume/teran2_disk/rapidbuild/bbs-3.22-bioc-rapid/R/site-library 2.18.0 4.5.0
DT /media/volume/teran2_disk/rapidbuild/bbs-3.22-bioc-rapid/R/site-library 0.33 4.5.0
dynamicTreeCut /media/volume/teran2_disk/rapidbuild/bbs-3.22-bioc-rapid/R/site-library 1.63-1 4.5.0
DynDoc /media/volume/teran2_disk/rapidbuild/bbs-3.22-bioc-rapid/R/site-library 1.87.0 4.5.0
e1071 /media/volume/teran2_disk/rapidbuild/bbs-3.22-bioc-rapid/R/site-library 1.7-16 4.5.0
EBarrays /media/volume/teran2_disk/rapidbuild/bbs-3.22-bioc-rapid/R/site-library 2.73.0 4.5.0
EBImage /media/volume/teran2_disk/rapidbuild/bbs-3.22-bioc-rapid/R/site-library 4.51.0 4.5.0
EDASeq /media/volume/teran2_disk/rapidbuild/bbs-3.22-bioc-rapid/R/site-library 2.43.0 4.5.0
edgeR /media/volume/teran2_disk/rapidbuild/bbs-3.22-bioc-rapid/R/site-library 4.7.3 4.5.0
eds /media/volume/teran2_disk/rapidbuild/bbs-3.22-bioc-rapid/R/site-library 1.11.0 4.5.0
ellipse /media/volume/teran2_disk/rapidbuild/bbs-3.22-bioc-rapid/R/site-library 0.5.0 4.5.0
ellipsis /media/volume/teran2_disk/rapidbuild/bbs-3.22-bioc-rapid/R/site-library 0.3.2 4.5.0
emdbook /media/volume/teran2_disk/rapidbuild/bbs-3.22-bioc-rapid/R/site-library 1.3.14 4.5.0
emmeans /media/volume/teran2_disk/rapidbuild/bbs-3.22-bioc-rapid/R/site-library 1.11.2 4.5.0
emojifont /media/volume/teran2_disk/rapidbuild/bbs-3.22-bioc-rapid/R/site-library 0.5.5 4.5.0
EnhancedVolcano /media/volume/teran2_disk/rapidbuild/bbs-3.22-bioc-rapid/R/site-library 1.27.0 4.5.0
EnrichedHeatmap /media/volume/teran2_disk/rapidbuild/bbs-3.22-bioc-rapid/R/site-library 1.39.1 4.5.0
enrichplot /media/volume/teran2_disk/rapidbuild/bbs-3.22-bioc-rapid/R/site-library 1.29.2 4.5.0
EnsDb.Hsapiens.v75 /media/volume/teran2_disk/rapidbuild/bbs-3.22-bioc-rapid/R/site-library 2.99.0 4.5.0
EnsDb.Hsapiens.v86 /media/volume/teran2_disk/rapidbuild/bbs-3.22-bioc-rapid/R/site-library 2.99.0 4.5.0
ensembldb /media/volume/teran2_disk/rapidbuild/bbs-3.22-bioc-rapid/R/site-library 2.33.1 4.5.0
estimability /media/volume/teran2_disk/rapidbuild/bbs-3.22-bioc-rapid/R/site-library 1.5.1 4.5.0
etrunct /media/volume/teran2_disk/rapidbuild/bbs-3.22-bioc-rapid/R/site-library 0.1 4.5.0
europepmc /media/volume/teran2_disk/rapidbuild/bbs-3.22-bioc-rapid/R/site-library 0.4.3 4.5.0
evaluate /media/volume/teran2_disk/rapidbuild/bbs-3.22-bioc-rapid/R/site-library 1.0.4 4.5.0
exactRankTests /media/volume/teran2_disk/rapidbuild/bbs-3.22-bioc-rapid/R/site-library 0.8-35 4.5.0
ExperimentHub /media/volume/teran2_disk/rapidbuild/bbs-3.22-bioc-rapid/R/site-library 2.99.5 4.5.0
ExperimentHubData /media/volume/teran2_disk/rapidbuild/bbs-3.22-bioc-rapid/R/site-library 1.35.0 4.5.0
extrafont /media/volume/teran2_disk/rapidbuild/bbs-3.22-bioc-rapid/R/site-library 0.19 4.5.0
extrafontdb /media/volume/teran2_disk/rapidbuild/bbs-3.22-bioc-rapid/R/site-library 1.0 4.5.0
faahKO /media/volume/teran2_disk/rapidbuild/bbs-3.22-bioc-rapid/R/site-library 1.49.1 4.5.0
factoextra /media/volume/teran2_disk/rapidbuild/bbs-3.22-bioc-rapid/R/site-library 1.0.7 4.5.0
FactoMineR /media/volume/teran2_disk/rapidbuild/bbs-3.22-bioc-rapid/R/site-library 2.12 4.5.0
fansi /media/volume/teran2_disk/rapidbuild/bbs-3.22-bioc-rapid/R/site-library 1.0.6 4.5.0
farver /media/volume/teran2_disk/rapidbuild/bbs-3.22-bioc-rapid/R/site-library 2.1.2 4.5.0
fastcluster /media/volume/teran2_disk/rapidbuild/bbs-3.22-bioc-rapid/R/site-library 1.3.0 4.5.0
fastDummies /media/volume/teran2_disk/rapidbuild/bbs-3.22-bioc-rapid/R/site-library 1.7.5 4.5.0
fastmap /media/volume/teran2_disk/rapidbuild/bbs-3.22-bioc-rapid/R/site-library 1.2.0 4.5.0
fastmatch /media/volume/teran2_disk/rapidbuild/bbs-3.22-bioc-rapid/R/site-library 1.1-6 4.5.0
fauxpas /media/volume/teran2_disk/rapidbuild/bbs-3.22-bioc-rapid/R/site-library 0.5.2 4.5.0
fda /media/volume/teran2_disk/rapidbuild/bbs-3.22-bioc-rapid/R/site-library 6.3.0 4.5.0
FDb.UCSC.tRNAs /media/volume/teran2_disk/rapidbuild/bbs-3.22-bioc-rapid/R/site-library 1.0.1 4.5.0
fdrtool /media/volume/teran2_disk/rapidbuild/bbs-3.22-bioc-rapid/R/site-library 1.2.18 4.5.0
fds /media/volume/teran2_disk/rapidbuild/bbs-3.22-bioc-rapid/R/site-library 1.8 4.5.0
fftwtools /media/volume/teran2_disk/rapidbuild/bbs-3.22-bioc-rapid/R/site-library 0.9-11 4.5.0
fgsea /media/volume/teran2_disk/rapidbuild/bbs-3.22-bioc-rapid/R/site-library 1.35.6 4.5.0
fibroEset /media/volume/teran2_disk/rapidbuild/bbs-3.22-bioc-rapid/R/site-library 1.51.0 4.5.0
fields /media/volume/teran2_disk/rapidbuild/bbs-3.22-bioc-rapid/R/site-library 16.3.1 4.5.0
filelock /media/volume/teran2_disk/rapidbuild/bbs-3.22-bioc-rapid/R/site-library 1.0.3 4.5.0
fishpond /media/volume/teran2_disk/rapidbuild/bbs-3.22-bioc-rapid/R/site-library 2.15.0 4.5.0
fitdistrplus /media/volume/teran2_disk/rapidbuild/bbs-3.22-bioc-rapid/R/site-library 1.2-4 4.5.0
flashClust /media/volume/teran2_disk/rapidbuild/bbs-3.22-bioc-rapid/R/site-library 1.01-2 4.5.0
flexmix /media/volume/teran2_disk/rapidbuild/bbs-3.22-bioc-rapid/R/site-library 2.3-20 4.5.0
flowClust /media/volume/teran2_disk/rapidbuild/bbs-3.22-bioc-rapid/R/site-library 3.47.0 4.5.0
flowCore /media/volume/teran2_disk/rapidbuild/bbs-3.22-bioc-rapid/R/site-library 2.21.0 4.5.0
FlowSorted.Blood.450k /media/volume/teran2_disk/rapidbuild/bbs-3.22-bioc-rapid/R/site-library 1.47.0 4.5.0
flowStats /media/volume/teran2_disk/rapidbuild/bbs-3.22-bioc-rapid/R/site-library 4.21.0 4.5.0
flowViz /media/volume/teran2_disk/rapidbuild/bbs-3.22-bioc-rapid/R/site-library 1.73.0 4.5.0
flowWorkspace /media/volume/teran2_disk/rapidbuild/bbs-3.22-bioc-rapid/R/site-library 4.21.0 4.5.0
flowWorkspaceData /media/volume/teran2_disk/rapidbuild/bbs-3.22-bioc-rapid/R/site-library 3.21.0 4.5.0
fmcsR /media/volume/teran2_disk/rapidbuild/bbs-3.22-bioc-rapid/R/site-library 1.51.0 4.5.0
FNN /media/volume/teran2_disk/rapidbuild/bbs-3.22-bioc-rapid/R/site-library 1.1.4.1 4.5.0
fontawesome /media/volume/teran2_disk/rapidbuild/bbs-3.22-bioc-rapid/R/site-library 0.5.3 4.5.0
forcats /media/volume/teran2_disk/rapidbuild/bbs-3.22-bioc-rapid/R/site-library 1.0.0 4.5.0
foreach /media/volume/teran2_disk/rapidbuild/bbs-3.22-bioc-rapid/R/site-library 1.5.2 4.5.0
formatR /media/volume/teran2_disk/rapidbuild/bbs-3.22-bioc-rapid/R/site-library 1.14 4.5.0
Formula /media/volume/teran2_disk/rapidbuild/bbs-3.22-bioc-rapid/R/site-library 1.2-5 4.5.0
fpc /media/volume/teran2_disk/rapidbuild/bbs-3.22-bioc-rapid/R/site-library 2.2-13 4.5.0
fs /media/volume/teran2_disk/rapidbuild/bbs-3.22-bioc-rapid/R/site-library 1.6.6 4.5.0
futile.logger /media/volume/teran2_disk/rapidbuild/bbs-3.22-bioc-rapid/R/site-library 1.4.3 4.5.0
futile.options /media/volume/teran2_disk/rapidbuild/bbs-3.22-bioc-rapid/R/site-library 1.0.1 4.5.0
future /media/volume/teran2_disk/rapidbuild/bbs-3.22-bioc-rapid/R/site-library 1.58.0 4.5.0
future.apply /media/volume/teran2_disk/rapidbuild/bbs-3.22-bioc-rapid/R/site-library 1.20.0 4.5.0
gage /media/volume/teran2_disk/rapidbuild/bbs-3.22-bioc-rapid/R/site-library 2.59.0 4.5.0
gageData /media/volume/teran2_disk/rapidbuild/bbs-3.22-bioc-rapid/R/site-library 2.47.0 4.5.0
gbm /media/volume/teran2_disk/rapidbuild/bbs-3.22-bioc-rapid/R/site-library 2.2.2 4.5.0
gcrma /media/volume/teran2_disk/rapidbuild/bbs-3.22-bioc-rapid/R/site-library 2.81.0 4.5.0
gdata /media/volume/teran2_disk/rapidbuild/bbs-3.22-bioc-rapid/R/site-library 3.0.1 4.5.0
gdsfmt /media/volume/teran2_disk/rapidbuild/bbs-3.22-bioc-rapid/R/site-library 1.45.1 4.5.0
genefilter /media/volume/teran2_disk/rapidbuild/bbs-3.22-bioc-rapid/R/site-library 1.91.0 4.5.0
geneplotter /media/volume/teran2_disk/rapidbuild/bbs-3.22-bioc-rapid/R/site-library 1.87.0 4.5.0
generics /media/volume/teran2_disk/rapidbuild/bbs-3.22-bioc-rapid/R/site-library 0.1.4 4.5.0
GenomeInfoDb /media/volume/teran2_disk/rapidbuild/bbs-3.22-bioc-rapid/R/site-library 1.45.9 4.5.0
GenomeInfoDbData /media/volume/teran2_disk/rapidbuild/bbs-3.22-bioc-rapid/R/site-library 1.2.14 4.5.0
GenomicAlignments /media/volume/teran2_disk/rapidbuild/bbs-3.22-bioc-rapid/R/site-library 1.45.1 4.5.0
GenomicFeatures /media/volume/teran2_disk/rapidbuild/bbs-3.22-bioc-rapid/R/site-library 1.61.5 4.5.0
GenomicRanges /media/volume/teran2_disk/rapidbuild/bbs-3.22-bioc-rapid/R/site-library 1.61.1 4.5.0
GEOquery /media/volume/teran2_disk/rapidbuild/bbs-3.22-bioc-rapid/R/site-library 2.77.1 4.5.0
gert /media/volume/teran2_disk/rapidbuild/bbs-3.22-bioc-rapid/R/site-library 2.1.5 4.5.0
GetoptLong /media/volume/teran2_disk/rapidbuild/bbs-3.22-bioc-rapid/R/site-library 1.0.5 4.5.0
getPass /media/volume/teran2_disk/rapidbuild/bbs-3.22-bioc-rapid/R/site-library 0.2-4 4.5.0
GGally /media/volume/teran2_disk/rapidbuild/bbs-3.22-bioc-rapid/R/site-library 2.3.0 4.5.0
ggalt /media/volume/teran2_disk/rapidbuild/bbs-3.22-bioc-rapid/R/site-library 0.4.0 4.5.0
ggarchery /media/volume/teran2_disk/rapidbuild/bbs-3.22-bioc-rapid/R/site-library 0.4.3 4.5.0
ggbeeswarm /media/volume/teran2_disk/rapidbuild/bbs-3.22-bioc-rapid/R/site-library 0.7.2 4.5.0
ggbio /media/volume/teran2_disk/rapidbuild/bbs-3.22-bioc-rapid/R/site-library 1.57.1 4.5.0
ggcyto /media/volume/teran2_disk/rapidbuild/bbs-3.22-bioc-rapid/R/site-library 1.37.0 4.5.0
ggforce /media/volume/teran2_disk/rapidbuild/bbs-3.22-bioc-rapid/R/site-library 0.5.0 4.5.0
ggfun /media/volume/teran2_disk/rapidbuild/bbs-3.22-bioc-rapid/R/site-library 0.2.0 4.5.0
ggHoriPlot /media/volume/teran2_disk/rapidbuild/bbs-3.22-bioc-rapid/R/site-library 1.0.1 4.5.0
ggimage /media/volume/teran2_disk/rapidbuild/bbs-3.22-bioc-rapid/R/site-library 0.3.3 4.5.0
ggnewscale /media/volume/teran2_disk/rapidbuild/bbs-3.22-bioc-rapid/R/site-library 0.5.2 4.5.0
ggplot2 /media/volume/teran2_disk/rapidbuild/bbs-3.22-bioc-rapid/R/site-library 3.5.2.9001 4.5.0
ggplotify /media/volume/teran2_disk/rapidbuild/bbs-3.22-bioc-rapid/R/site-library 0.1.2 4.5.0
ggpubr /media/volume/teran2_disk/rapidbuild/bbs-3.22-bioc-rapid/R/site-library 0.6.1 4.5.0
ggrastr /media/volume/teran2_disk/rapidbuild/bbs-3.22-bioc-rapid/R/site-library 1.0.2 4.5.0
ggrepel /media/volume/teran2_disk/rapidbuild/bbs-3.22-bioc-rapid/R/site-library 0.9.6 4.5.0
ggridges /media/volume/teran2_disk/rapidbuild/bbs-3.22-bioc-rapid/R/site-library 0.5.6 4.5.0
ggsci /media/volume/teran2_disk/rapidbuild/bbs-3.22-bioc-rapid/R/site-library 3.2.0 4.5.0
ggsignif /media/volume/teran2_disk/rapidbuild/bbs-3.22-bioc-rapid/R/site-library 0.6.4 4.5.0
ggstar /media/volume/teran2_disk/rapidbuild/bbs-3.22-bioc-rapid/R/site-library 1.0.4 4.5.0
ggstats /media/volume/teran2_disk/rapidbuild/bbs-3.22-bioc-rapid/R/site-library 0.10.0 4.5.0
ggtangle /media/volume/teran2_disk/rapidbuild/bbs-3.22-bioc-rapid/R/site-library 0.0.7 4.5.0
ggtext /media/volume/teran2_disk/rapidbuild/bbs-3.22-bioc-rapid/R/site-library 0.1.2 4.5.0
ggtree /media/volume/teran2_disk/rapidbuild/bbs-3.22-bioc-rapid/R/site-library 3.17.1 4.5.0
ggtreeExtra /media/volume/teran2_disk/rapidbuild/bbs-3.22-bioc-rapid/R/site-library 1.19.0 4.5.0
ggupset /media/volume/teran2_disk/rapidbuild/bbs-3.22-bioc-rapid/R/site-library 0.4.1 4.5.0
ggvis /media/volume/teran2_disk/rapidbuild/bbs-3.22-bioc-rapid/R/site-library 0.4.9 4.5.0
gh /media/volume/teran2_disk/rapidbuild/bbs-3.22-bioc-rapid/R/site-library 1.5.0 4.5.0
gitcreds /media/volume/teran2_disk/rapidbuild/bbs-3.22-bioc-rapid/R/site-library 0.1.2 4.5.0
glmGamPoi /media/volume/teran2_disk/rapidbuild/bbs-3.22-bioc-rapid/R/site-library 1.21.0 4.5.0
glmnet /media/volume/teran2_disk/rapidbuild/bbs-3.22-bioc-rapid/R/site-library 4.1-10 4.5.0
GlobalOptions /media/volume/teran2_disk/rapidbuild/bbs-3.22-bioc-rapid/R/site-library 0.1.2 4.5.0
globals /media/volume/teran2_disk/rapidbuild/bbs-3.22-bioc-rapid/R/site-library 0.18.0 4.5.0
glue /media/volume/teran2_disk/rapidbuild/bbs-3.22-bioc-rapid/R/site-library 1.8.0 4.5.0
gmm /media/volume/teran2_disk/rapidbuild/bbs-3.22-bioc-rapid/R/site-library 1.8 4.5.0
gmp /media/volume/teran2_disk/rapidbuild/bbs-3.22-bioc-rapid/R/site-library 0.7-5 4.5.0
GO.db /media/volume/teran2_disk/rapidbuild/bbs-3.22-bioc-rapid/R/site-library 3.21.0 4.5.0
goftest /media/volume/teran2_disk/rapidbuild/bbs-3.22-bioc-rapid/R/site-library 1.2-3 4.5.0
golubEsets /media/volume/teran2_disk/rapidbuild/bbs-3.22-bioc-rapid/R/site-library 1.51.0 4.5.0
GOSemSim /media/volume/teran2_disk/rapidbuild/bbs-3.22-bioc-rapid/R/site-library 2.35.0 4.5.0
GOstats /media/volume/teran2_disk/rapidbuild/bbs-3.22-bioc-rapid/R/site-library 2.75.0 4.5.0
gower /media/volume/teran2_disk/rapidbuild/bbs-3.22-bioc-rapid/R/site-library 1.0.2 4.5.0
gplots /media/volume/teran2_disk/rapidbuild/bbs-3.22-bioc-rapid/R/site-library 3.2.0 4.5.0
gpls /media/volume/teran2_disk/rapidbuild/bbs-3.22-bioc-rapid/R/site-library 1.81.0 4.5.0
graph /media/volume/teran2_disk/rapidbuild/bbs-3.22-bioc-rapid/R/site-library 1.87.0 4.5.0
grasp2db /media/volume/teran2_disk/rapidbuild/bbs-3.22-bioc-rapid/R/site-library 1.1.1 4.5.0
gridBase /media/volume/teran2_disk/rapidbuild/bbs-3.22-bioc-rapid/R/site-library 0.4-7 4.5.0
gridExtra /media/volume/teran2_disk/rapidbuild/bbs-3.22-bioc-rapid/R/site-library 2.3 4.5.0
gridGraphics /media/volume/teran2_disk/rapidbuild/bbs-3.22-bioc-rapid/R/site-library 0.5-1 4.5.0
gridSVG /media/volume/teran2_disk/rapidbuild/bbs-3.22-bioc-rapid/R/site-library 1.7-5 4.5.0
gridtext /media/volume/teran2_disk/rapidbuild/bbs-3.22-bioc-rapid/R/site-library 0.1.5 4.5.0
grImport /media/volume/teran2_disk/rapidbuild/bbs-3.22-bioc-rapid/R/site-library 0.9-7 4.5.0
grImport2 /media/volume/teran2_disk/rapidbuild/bbs-3.22-bioc-rapid/R/site-library 0.3-3 4.5.0
GSA /media/volume/teran2_disk/rapidbuild/bbs-3.22-bioc-rapid/R/site-library 1.03.3 4.5.0
GSEABase /media/volume/teran2_disk/rapidbuild/bbs-3.22-bioc-rapid/R/site-library 1.71.0 4.5.0
gson /media/volume/teran2_disk/rapidbuild/bbs-3.22-bioc-rapid/R/site-library 0.1.0 4.5.0
gss /media/volume/teran2_disk/rapidbuild/bbs-3.22-bioc-rapid/R/site-library 2.2-9 4.5.0
GSVA /media/volume/teran2_disk/rapidbuild/bbs-3.22-bioc-rapid/R/site-library 2.3.1 4.5.0
GSVAdata /media/volume/teran2_disk/rapidbuild/bbs-3.22-bioc-rapid/R/site-library 1.45.0 4.5.0
gtable /media/volume/teran2_disk/rapidbuild/bbs-3.22-bioc-rapid/R/site-library 0.3.6 4.5.0
gtools /media/volume/teran2_disk/rapidbuild/bbs-3.22-bioc-rapid/R/site-library 3.9.5 4.5.0
Gviz /media/volume/teran2_disk/rapidbuild/bbs-3.22-bioc-rapid/R/site-library 1.53.1 4.5.0
gwascat /media/volume/teran2_disk/rapidbuild/bbs-3.22-bioc-rapid/R/site-library 2.41.1 4.5.0
gypsum /media/volume/teran2_disk/rapidbuild/bbs-3.22-bioc-rapid/R/site-library 1.5.0 4.5.0
h5mread /media/volume/teran2_disk/rapidbuild/bbs-3.22-bioc-rapid/R/site-library 1.1.1 4.5.0
h5vcData /media/volume/teran2_disk/rapidbuild/bbs-3.22-bioc-rapid/R/site-library 2.29.0 4.5.0
hardhat /media/volume/teran2_disk/rapidbuild/bbs-3.22-bioc-rapid/R/site-library 1.4.1 4.5.0
haven /media/volume/teran2_disk/rapidbuild/bbs-3.22-bioc-rapid/R/site-library 2.5.5 4.5.0
HDF5Array /media/volume/teran2_disk/rapidbuild/bbs-3.22-bioc-rapid/R/site-library 1.37.0 4.5.0
hdrcde /media/volume/teran2_disk/rapidbuild/bbs-3.22-bioc-rapid/R/site-library 3.4 4.5.0
here /media/volume/teran2_disk/rapidbuild/bbs-3.22-bioc-rapid/R/site-library 1.0.1 4.5.0
hexbin /media/volume/teran2_disk/rapidbuild/bbs-3.22-bioc-rapid/R/site-library 1.28.5 4.5.0
hgu133a.db /media/volume/teran2_disk/rapidbuild/bbs-3.22-bioc-rapid/R/site-library 3.13.0 4.5.0
hgu133aprobe /media/volume/teran2_disk/rapidbuild/bbs-3.22-bioc-rapid/R/site-library 2.18.0 4.5.0
hgu133plus2.db /media/volume/teran2_disk/rapidbuild/bbs-3.22-bioc-rapid/R/site-library 3.13.0 4.5.0
hgu95a.db /media/volume/teran2_disk/rapidbuild/bbs-3.22-bioc-rapid/R/site-library 3.13.0 4.5.0
hgu95av2 /media/volume/teran2_disk/rapidbuild/bbs-3.22-bioc-rapid/R/site-library 2.2.0 4.5.0
hgu95av2.db /media/volume/teran2_disk/rapidbuild/bbs-3.22-bioc-rapid/R/site-library 3.13.0 4.5.0
hgu95av2cdf /media/volume/teran2_disk/rapidbuild/bbs-3.22-bioc-rapid/R/site-library 2.18.0 4.5.0
hgu95av2probe /media/volume/teran2_disk/rapidbuild/bbs-3.22-bioc-rapid/R/site-library 2.18.0 4.5.0
highr /media/volume/teran2_disk/rapidbuild/bbs-3.22-bioc-rapid/R/site-library 0.11 4.5.0
Hmisc /media/volume/teran2_disk/rapidbuild/bbs-3.22-bioc-rapid/R/site-library 5.2-3 4.5.0
hms /media/volume/teran2_disk/rapidbuild/bbs-3.22-bioc-rapid/R/site-library 1.1.3 4.5.0
Homo.sapiens /media/volume/teran2_disk/rapidbuild/bbs-3.22-bioc-rapid/R/site-library 1.3.1 4.5.0
hpar /media/volume/teran2_disk/rapidbuild/bbs-3.22-bioc-rapid/R/site-library 1.51.0 4.5.0
htmlTable /media/volume/teran2_disk/rapidbuild/bbs-3.22-bioc-rapid/R/site-library 2.4.3 4.5.0
htmltools /media/volume/teran2_disk/rapidbuild/bbs-3.22-bioc-rapid/R/site-library 0.5.8.1 4.5.0
htmlwidgets /media/volume/teran2_disk/rapidbuild/bbs-3.22-bioc-rapid/R/site-library 1.6.4 4.5.0
httpcode /media/volume/teran2_disk/rapidbuild/bbs-3.22-bioc-rapid/R/site-library 0.3.0 4.5.0
httptest2 /media/volume/teran2_disk/rapidbuild/bbs-3.22-bioc-rapid/R/site-library 1.2.0 4.5.0
httpuv /media/volume/teran2_disk/rapidbuild/bbs-3.22-bioc-rapid/R/site-library 1.6.16 4.5.0
httr /media/volume/teran2_disk/rapidbuild/bbs-3.22-bioc-rapid/R/site-library 1.4.7 4.5.0
httr2 /media/volume/teran2_disk/rapidbuild/bbs-3.22-bioc-rapid/R/site-library 1.2.1 4.5.0
hu6800.db /media/volume/teran2_disk/rapidbuild/bbs-3.22-bioc-rapid/R/site-library 3.13.0 4.5.0
HubPub /media/volume/teran2_disk/rapidbuild/bbs-3.22-bioc-rapid/R/site-library 1.17.1 4.5.0
human.db0 /media/volume/teran2_disk/rapidbuild/bbs-3.22-bioc-rapid/R/site-library 3.21.0 4.5.0
humanCHRLOC /media/volume/teran2_disk/rapidbuild/bbs-3.22-bioc-rapid/R/site-library 2.1.6 4.5.0
humanStemCell /media/volume/teran2_disk/rapidbuild/bbs-3.22-bioc-rapid/R/site-library 0.49.0 4.5.0
hunspell /media/volume/teran2_disk/rapidbuild/bbs-3.22-bioc-rapid/R/site-library 3.0.6 4.5.0
hwriter /media/volume/teran2_disk/rapidbuild/bbs-3.22-bioc-rapid/R/site-library 1.3.2.1 4.5.0
ica /media/volume/teran2_disk/rapidbuild/bbs-3.22-bioc-rapid/R/site-library 1.0-3 4.5.0
IDPmisc /media/volume/teran2_disk/rapidbuild/bbs-3.22-bioc-rapid/R/site-library 1.1.21 4.5.0
igraph /media/volume/teran2_disk/rapidbuild/bbs-3.22-bioc-rapid/R/site-library 2.1.4 4.5.0
IHW /media/volume/teran2_disk/rapidbuild/bbs-3.22-bioc-rapid/R/site-library 1.37.0 4.5.0
IlluminaDataTestFiles /media/volume/teran2_disk/rapidbuild/bbs-3.22-bioc-rapid/R/site-library 1.47.0 4.5.0
IlluminaHumanMethylation450kanno.ilmn12.hg19 /media/volume/teran2_disk/rapidbuild/bbs-3.22-bioc-rapid/R/site-library 0.6.1 4.5.0
IlluminaHumanMethylation450kmanifest /media/volume/teran2_disk/rapidbuild/bbs-3.22-bioc-rapid/R/site-library 0.4.0 4.5.0
IlluminaHumanMethylationEPICanno.ilm10b2.hg19 /media/volume/teran2_disk/rapidbuild/bbs-3.22-bioc-rapid/R/site-library 0.6.0 4.5.0
IlluminaHumanMethylationEPICmanifest /media/volume/teran2_disk/rapidbuild/bbs-3.22-bioc-rapid/R/site-library 0.3.0 4.5.0
illuminaio /media/volume/teran2_disk/rapidbuild/bbs-3.22-bioc-rapid/R/site-library 0.51.0 4.5.0
impute /media/volume/teran2_disk/rapidbuild/bbs-3.22-bioc-rapid/R/site-library 1.83.0 4.5.0
imputeLCMD /media/volume/teran2_disk/rapidbuild/bbs-3.22-bioc-rapid/R/site-library 2.1 4.5.0
infotheo /media/volume/teran2_disk/rapidbuild/bbs-3.22-bioc-rapid/R/site-library 1.2.0.1 4.5.0
ini /media/volume/teran2_disk/rapidbuild/bbs-3.22-bioc-rapid/R/site-library 0.3.1 4.5.0
interactiveDisplay /media/volume/teran2_disk/rapidbuild/bbs-3.22-bioc-rapid/R/site-library 1.47.1 4.5.0
interactiveDisplayBase /media/volume/teran2_disk/rapidbuild/bbs-3.22-bioc-rapid/R/site-library 1.47.1 4.5.0
interp /media/volume/teran2_disk/rapidbuild/bbs-3.22-bioc-rapid/R/site-library 1.1-6 4.5.0
inum /media/volume/teran2_disk/rapidbuild/bbs-3.22-bioc-rapid/R/site-library 1.0-5 4.5.0
invgamma /media/volume/teran2_disk/rapidbuild/bbs-3.22-bioc-rapid/R/site-library 1.2 4.5.0
ipred /media/volume/teran2_disk/rapidbuild/bbs-3.22-bioc-rapid/R/site-library 0.9-15 4.5.0
IRanges /media/volume/teran2_disk/rapidbuild/bbs-3.22-bioc-rapid/R/site-library 2.43.0 4.5.0
irlba /media/volume/teran2_disk/rapidbuild/bbs-3.22-bioc-rapid/R/site-library 2.3.5.1 4.5.0
isoband /media/volume/teran2_disk/rapidbuild/bbs-3.22-bioc-rapid/R/site-library 0.2.7 4.5.0
iterators /media/volume/teran2_disk/rapidbuild/bbs-3.22-bioc-rapid/R/site-library 1.0.14 4.5.0
itertools /media/volume/teran2_disk/rapidbuild/bbs-3.22-bioc-rapid/R/site-library 0.1-3 4.5.0
janeaustenr /media/volume/teran2_disk/rapidbuild/bbs-3.22-bioc-rapid/R/site-library 1.0.0 4.5.0
JASPAR2014 /media/volume/teran2_disk/rapidbuild/bbs-3.22-bioc-rapid/R/site-library 1.45.0 4.5.0
JASPAR2016 /media/volume/teran2_disk/rapidbuild/bbs-3.22-bioc-rapid/R/site-library 1.37.0 4.5.0
JASPAR2018 /media/volume/teran2_disk/rapidbuild/bbs-3.22-bioc-rapid/R/site-library 1.1.1 4.5.0
jpeg /media/volume/teran2_disk/rapidbuild/bbs-3.22-bioc-rapid/R/site-library 0.1-11 4.5.0
jquerylib /media/volume/teran2_disk/rapidbuild/bbs-3.22-bioc-rapid/R/site-library 0.1.4 4.5.0
jsonlite /media/volume/teran2_disk/rapidbuild/bbs-3.22-bioc-rapid/R/site-library 2.0.0 4.5.0
jsonvalidate /media/volume/teran2_disk/rapidbuild/bbs-3.22-bioc-rapid/R/site-library 1.5.0 4.5.0
kableExtra /media/volume/teran2_disk/rapidbuild/bbs-3.22-bioc-rapid/R/site-library 1.4.0 4.5.0
karyoploteR /media/volume/teran2_disk/rapidbuild/bbs-3.22-bioc-rapid/R/site-library 1.35.3 4.5.0
KEGGgraph /media/volume/teran2_disk/rapidbuild/bbs-3.22-bioc-rapid/R/site-library 1.69.0 4.5.0
keggorthology /media/volume/teran2_disk/rapidbuild/bbs-3.22-bioc-rapid/R/site-library 2.61.0 4.5.0
KEGGREST /media/volume/teran2_disk/rapidbuild/bbs-3.22-bioc-rapid/R/site-library 1.49.1 4.5.0
keras /media/volume/teran2_disk/rapidbuild/bbs-3.22-bioc-rapid/R/site-library 2.15.0 4.5.0
kernlab /media/volume/teran2_disk/rapidbuild/bbs-3.22-bioc-rapid/R/site-library 0.9-33 4.5.0
klaR /media/volume/teran2_disk/rapidbuild/bbs-3.22-bioc-rapid/R/site-library 1.7-3 4.5.0
km.ci /media/volume/teran2_disk/rapidbuild/bbs-3.22-bioc-rapid/R/site-library 0.5-6 4.5.0
KMsurv /media/volume/teran2_disk/rapidbuild/bbs-3.22-bioc-rapid/R/site-library 0.1-6 4.5.0
knitcitations /media/volume/teran2_disk/rapidbuild/bbs-3.22-bioc-rapid/R/site-library 1.0.12 4.5.0
knitr /media/volume/teran2_disk/rapidbuild/bbs-3.22-bioc-rapid/R/site-library 1.50 4.5.0
knitrBootstrap /media/volume/teran2_disk/rapidbuild/bbs-3.22-bioc-rapid/R/site-library 1.0.3 4.5.0
kohonen /media/volume/teran2_disk/rapidbuild/bbs-3.22-bioc-rapid/R/site-library 3.0.12 4.5.0
ks /media/volume/teran2_disk/rapidbuild/bbs-3.22-bioc-rapid/R/site-library 1.15.1 4.5.0
labeling /media/volume/teran2_disk/rapidbuild/bbs-3.22-bioc-rapid/R/site-library 0.4.3 4.5.0
labelled /media/volume/teran2_disk/rapidbuild/bbs-3.22-bioc-rapid/R/site-library 2.14.1 4.5.0
lambda.r /media/volume/teran2_disk/rapidbuild/bbs-3.22-bioc-rapid/R/site-library 1.2.4 4.5.0
LaplacesDemon /media/volume/teran2_disk/rapidbuild/bbs-3.22-bioc-rapid/R/site-library 16.1.6 4.5.0
later /media/volume/teran2_disk/rapidbuild/bbs-3.22-bioc-rapid/R/site-library 1.4.2 4.5.0
latticeExtra /media/volume/teran2_disk/rapidbuild/bbs-3.22-bioc-rapid/R/site-library 0.6-30 4.5.0
lava /media/volume/teran2_disk/rapidbuild/bbs-3.22-bioc-rapid/R/site-library 1.8.1 4.5.0
lazyeval /media/volume/teran2_disk/rapidbuild/bbs-3.22-bioc-rapid/R/site-library 0.2.2 4.5.0
leaps /media/volume/teran2_disk/rapidbuild/bbs-3.22-bioc-rapid/R/site-library 3.2 4.5.0
leeBamViews /media/volume/teran2_disk/rapidbuild/bbs-3.22-bioc-rapid/R/site-library 1.45.0 4.5.0
leidenbase /media/volume/teran2_disk/rapidbuild/bbs-3.22-bioc-rapid/R/site-library 0.1.35 4.5.0
libcoin /media/volume/teran2_disk/rapidbuild/bbs-3.22-bioc-rapid/R/site-library 1.0-10 4.5.0
lifecycle /media/volume/teran2_disk/rapidbuild/bbs-3.22-bioc-rapid/R/site-library 1.0.4 4.5.0
limma /media/volume/teran2_disk/rapidbuild/bbs-3.22-bioc-rapid/R/site-library 3.65.1 4.5.0
listenv /media/volume/teran2_disk/rapidbuild/bbs-3.22-bioc-rapid/R/site-library 0.9.1 4.5.0
litedown /media/volume/teran2_disk/rapidbuild/bbs-3.22-bioc-rapid/R/site-library 0.7 4.5.0
lme4 /media/volume/teran2_disk/rapidbuild/bbs-3.22-bioc-rapid/R/site-library 1.1-37 4.5.0
lmtest /media/volume/teran2_disk/rapidbuild/bbs-3.22-bioc-rapid/R/site-library 0.9-40 4.5.0
lobstr /media/volume/teran2_disk/rapidbuild/bbs-3.22-bioc-rapid/R/site-library 1.1.2 4.5.0
locfit /media/volume/teran2_disk/rapidbuild/bbs-3.22-bioc-rapid/R/site-library 1.5-9.12 4.5.0
LoomExperiment /media/volume/teran2_disk/rapidbuild/bbs-3.22-bioc-rapid/R/site-library 1.27.0 4.5.0
lpSolve /media/volume/teran2_disk/rapidbuild/bbs-3.22-bioc-rapid/R/site-library 5.6.23 4.5.0
lpsymphony /media/volume/teran2_disk/rapidbuild/bbs-3.22-bioc-rapid/R/site-library 1.37.0 4.5.0
lubridate /media/volume/teran2_disk/rapidbuild/bbs-3.22-bioc-rapid/R/site-library 1.9.4 4.5.0
macrophage /media/volume/teran2_disk/rapidbuild/bbs-3.22-bioc-rapid/R/site-library 1.25.0 4.5.0
maftools /media/volume/teran2_disk/rapidbuild/bbs-3.22-bioc-rapid/R/site-library 2.25.10 4.5.0
magick /media/volume/teran2_disk/rapidbuild/bbs-3.22-bioc-rapid/R/site-library 2.8.7 4.5.0
magrittr /media/volume/teran2_disk/rapidbuild/bbs-3.22-bioc-rapid/R/site-library 2.0.3 4.5.0
MALDIquant /media/volume/teran2_disk/rapidbuild/bbs-3.22-bioc-rapid/R/site-library 1.22.3 4.5.0
mapproj /media/volume/teran2_disk/rapidbuild/bbs-3.22-bioc-rapid/R/site-library 1.2.12 4.5.0
maps /media/volume/teran2_disk/rapidbuild/bbs-3.22-bioc-rapid/R/site-library 3.4.3 4.5.0
markdown /media/volume/teran2_disk/rapidbuild/bbs-3.22-bioc-rapid/R/site-library 2.0 4.5.0
MassSpecWavelet /media/volume/teran2_disk/rapidbuild/bbs-3.22-bioc-rapid/R/site-library 1.75.1 4.5.0
MatrixGenerics /media/volume/teran2_disk/rapidbuild/bbs-3.22-bioc-rapid/R/site-library 1.21.0 4.5.0
MatrixModels /media/volume/teran2_disk/rapidbuild/bbs-3.22-bioc-rapid/R/site-library 0.5-4 4.5.0
matrixStats /media/volume/teran2_disk/rapidbuild/bbs-3.22-bioc-rapid/R/site-library 1.5.0 4.5.0
maxstat /media/volume/teran2_disk/rapidbuild/bbs-3.22-bioc-rapid/R/site-library 0.7-26 4.5.0
mbkmeans /media/volume/teran2_disk/rapidbuild/bbs-3.22-bioc-rapid/R/site-library 1.25.0 4.5.0
mboost /media/volume/teran2_disk/rapidbuild/bbs-3.22-bioc-rapid/R/site-library 2.9-11 4.5.0
mclust /media/volume/teran2_disk/rapidbuild/bbs-3.22-bioc-rapid/R/site-library 6.1.1 4.5.0
memoise /media/volume/teran2_disk/rapidbuild/bbs-3.22-bioc-rapid/R/site-library 2.0.1 4.5.0
MetaboCoreUtils /media/volume/teran2_disk/rapidbuild/bbs-3.22-bioc-rapid/R/site-library 1.17.1 4.5.0
metagenomeSeq /media/volume/teran2_disk/rapidbuild/bbs-3.22-bioc-rapid/R/site-library 1.51.0 4.5.0
metapod /media/volume/teran2_disk/rapidbuild/bbs-3.22-bioc-rapid/R/site-library 1.17.0 4.5.0
microbenchmark /media/volume/teran2_disk/rapidbuild/bbs-3.22-bioc-rapid/R/site-library 1.5.0 4.5.0
microRNA /media/volume/teran2_disk/rapidbuild/bbs-3.22-bioc-rapid/R/site-library 1.67.0 4.5.0
mime /media/volume/teran2_disk/rapidbuild/bbs-3.22-bioc-rapid/R/site-library 0.13 4.5.0
minet /media/volume/teran2_disk/rapidbuild/bbs-3.22-bioc-rapid/R/site-library 3.67.0 4.5.0
minfi /media/volume/teran2_disk/rapidbuild/bbs-3.22-bioc-rapid/R/site-library 1.55.1 4.5.0
minfiData /media/volume/teran2_disk/rapidbuild/bbs-3.22-bioc-rapid/R/site-library 0.55.0 4.5.0
minfiDataEPIC /media/volume/teran2_disk/rapidbuild/bbs-3.22-bioc-rapid/R/site-library 1.35.0 4.5.0
miniUI /media/volume/teran2_disk/rapidbuild/bbs-3.22-bioc-rapid/R/site-library 0.1.2 4.5.0
minqa /media/volume/teran2_disk/rapidbuild/bbs-3.22-bioc-rapid/R/site-library 1.2.8 4.5.0
missForest /media/volume/teran2_disk/rapidbuild/bbs-3.22-bioc-rapid/R/site-library 1.5 4.5.0
mixsqp /media/volume/teran2_disk/rapidbuild/bbs-3.22-bioc-rapid/R/site-library 0.3-54 4.5.0
mixtools /media/volume/teran2_disk/rapidbuild/bbs-3.22-bioc-rapid/R/site-library 2.0.0.1 4.5.0
mlbench /media/volume/teran2_disk/rapidbuild/bbs-3.22-bioc-rapid/R/site-library 2.1-6 4.5.0
MLInterfaces /media/volume/teran2_disk/rapidbuild/bbs-3.22-bioc-rapid/R/site-library 1.89.0 4.5.0
mnormt /media/volume/teran2_disk/rapidbuild/bbs-3.22-bioc-rapid/R/site-library 2.1.1 4.5.0
mockery /media/volume/teran2_disk/rapidbuild/bbs-3.22-bioc-rapid/R/site-library 0.4.4 4.5.0
ModelMetrics /media/volume/teran2_disk/rapidbuild/bbs-3.22-bioc-rapid/R/site-library 1.2.2.2 4.5.0
modelr /media/volume/teran2_disk/rapidbuild/bbs-3.22-bioc-rapid/R/site-library 0.1.11 4.5.0
modeltools /media/volume/teran2_disk/rapidbuild/bbs-3.22-bioc-rapid/R/site-library 0.2-24 4.5.0
MsBackendMgf /media/volume/teran2_disk/rapidbuild/bbs-3.22-bioc-rapid/R/site-library 1.17.0 4.5.0
MsBackendSql /media/volume/teran2_disk/rapidbuild/bbs-3.22-bioc-rapid/R/site-library 1.9.0 4.5.0
MsCoreUtils /media/volume/teran2_disk/rapidbuild/bbs-3.22-bioc-rapid/R/site-library 1.21.0 4.5.0
msdata /media/volume/teran2_disk/rapidbuild/bbs-3.22-bioc-rapid/R/site-library 0.49.0 4.5.0
MsDataHub /media/volume/teran2_disk/rapidbuild/bbs-3.22-bioc-rapid/R/site-library 1.9.0 4.5.0
msentropy /media/volume/teran2_disk/rapidbuild/bbs-3.22-bioc-rapid/R/site-library 0.1.4 4.5.0
MsExperiment /media/volume/teran2_disk/rapidbuild/bbs-3.22-bioc-rapid/R/site-library 1.11.1 4.5.0
MsFeatures /media/volume/teran2_disk/rapidbuild/bbs-3.22-bioc-rapid/R/site-library 1.17.1 4.5.0
msigdbr /media/volume/teran2_disk/rapidbuild/bbs-3.22-bioc-rapid/R/site-library 25.1.1 4.5.0
MSnbase /media/volume/teran2_disk/rapidbuild/bbs-3.22-bioc-rapid/R/site-library 2.35.0 4.5.0
multcomp /media/volume/teran2_disk/rapidbuild/bbs-3.22-bioc-rapid/R/site-library 1.4-28 4.5.0
multcompView /media/volume/teran2_disk/rapidbuild/bbs-3.22-bioc-rapid/R/site-library 0.1-10 4.5.0
MultiAssayExperiment /media/volume/teran2_disk/rapidbuild/bbs-3.22-bioc-rapid/R/site-library 1.35.6 4.5.0
multicool /media/volume/teran2_disk/rapidbuild/bbs-3.22-bioc-rapid/R/site-library 1.0.1 4.5.0
multitaper /media/volume/teran2_disk/rapidbuild/bbs-3.22-bioc-rapid/R/site-library 1.0-17 4.5.0
multtest /media/volume/teran2_disk/rapidbuild/bbs-3.22-bioc-rapid/R/site-library 2.65.0 4.5.0
muscData /media/volume/teran2_disk/rapidbuild/bbs-3.22-bioc-rapid/R/site-library 1.23.0 4.5.0
mvtnorm /media/volume/teran2_disk/rapidbuild/bbs-3.22-bioc-rapid/R/site-library 1.3-3 4.5.0
mzID /media/volume/teran2_disk/rapidbuild/bbs-3.22-bioc-rapid/R/site-library 1.47.0 4.5.0
mzR /media/volume/teran2_disk/rapidbuild/bbs-3.22-bioc-rapid/R/site-library 2.43.0 4.5.0
ncdf4 /media/volume/teran2_disk/rapidbuild/bbs-3.22-bioc-rapid/R/site-library 1.24 4.5.0
ncdfFlow /media/volume/teran2_disk/rapidbuild/bbs-3.22-bioc-rapid/R/site-library 2.55.0 4.5.0
networkD3 /media/volume/teran2_disk/rapidbuild/bbs-3.22-bioc-rapid/R/site-library 0.4.1 4.5.0
nipals /media/volume/teran2_disk/rapidbuild/bbs-3.22-bioc-rapid/R/site-library 1.0 4.5.0
nloptr /media/volume/teran2_disk/rapidbuild/bbs-3.22-bioc-rapid/R/site-library 2.2.1 4.5.0
NLP /media/volume/teran2_disk/rapidbuild/bbs-3.22-bioc-rapid/R/site-library 0.3-2 4.5.0
NMF /media/volume/teran2_disk/rapidbuild/bbs-3.22-bioc-rapid/R/site-library 0.28 4.5.0
nnls /media/volume/teran2_disk/rapidbuild/bbs-3.22-bioc-rapid/R/site-library 1.6 4.5.0
nor1mix /media/volume/teran2_disk/rapidbuild/bbs-3.22-bioc-rapid/R/site-library 1.3-3 4.5.0
norm /media/volume/teran2_disk/rapidbuild/bbs-3.22-bioc-rapid/R/site-library 1.0-11.1 4.5.0
numDeriv /media/volume/teran2_disk/rapidbuild/bbs-3.22-bioc-rapid/R/site-library 2016.8-1.1 4.5.0
openCyto /media/volume/teran2_disk/rapidbuild/bbs-3.22-bioc-rapid/R/site-library 2.21.0 4.5.0
openssl /media/volume/teran2_disk/rapidbuild/bbs-3.22-bioc-rapid/R/site-library 2.3.3 4.5.0
openxlsx /media/volume/teran2_disk/rapidbuild/bbs-3.22-bioc-rapid/R/site-library 4.2.8 4.5.0
org.At.tair.db /media/volume/teran2_disk/rapidbuild/bbs-3.22-bioc-rapid/R/site-library 3.21.0 4.5.0
org.Dm.eg.db /media/volume/teran2_disk/rapidbuild/bbs-3.22-bioc-rapid/R/site-library 3.21.0 4.5.0
org.Hs.eg.db /media/volume/teran2_disk/rapidbuild/bbs-3.22-bioc-rapid/R/site-library 3.21.0 4.5.0
org.Mm.eg.db /media/volume/teran2_disk/rapidbuild/bbs-3.22-bioc-rapid/R/site-library 3.21.0 4.5.0
org.Rn.eg.db /media/volume/teran2_disk/rapidbuild/bbs-3.22-bioc-rapid/R/site-library 3.21.0 4.5.0
org.Sc.sgd.db /media/volume/teran2_disk/rapidbuild/bbs-3.22-bioc-rapid/R/site-library 3.21.0 4.5.0
OrganismDbi /media/volume/teran2_disk/rapidbuild/bbs-3.22-bioc-rapid/R/site-library 1.51.4 4.5.0
pals /media/volume/teran2_disk/rapidbuild/bbs-3.22-bioc-rapid/R/site-library 1.10 4.5.0
pamr /media/volume/teran2_disk/rapidbuild/bbs-3.22-bioc-rapid/R/site-library 1.57 4.5.0
pander /media/volume/teran2_disk/rapidbuild/bbs-3.22-bioc-rapid/R/site-library 0.6.6 4.5.0
parallelly /media/volume/teran2_disk/rapidbuild/bbs-3.22-bioc-rapid/R/site-library 1.45.0 4.5.0
parmigene /media/volume/teran2_disk/rapidbuild/bbs-3.22-bioc-rapid/R/site-library 1.1.1 4.5.0
party /media/volume/teran2_disk/rapidbuild/bbs-3.22-bioc-rapid/R/site-library 1.3-18 4.5.0
partykit /media/volume/teran2_disk/rapidbuild/bbs-3.22-bioc-rapid/R/site-library 1.2-24 4.5.0
pasilla /media/volume/teran2_disk/rapidbuild/bbs-3.22-bioc-rapid/R/site-library 1.37.0 4.5.0
pasillaBamSubset /media/volume/teran2_disk/rapidbuild/bbs-3.22-bioc-rapid/R/site-library 0.47.0 4.5.0
patchwork /media/volume/teran2_disk/rapidbuild/bbs-3.22-bioc-rapid/R/site-library 1.3.1 4.5.0
pathview /media/volume/teran2_disk/rapidbuild/bbs-3.22-bioc-rapid/R/site-library 1.49.0 4.5.0
patrick /media/volume/teran2_disk/rapidbuild/bbs-3.22-bioc-rapid/R/site-library 0.3.0 4.5.0
pbapply /media/volume/teran2_disk/rapidbuild/bbs-3.22-bioc-rapid/R/site-library 1.7-4 4.5.0
pbkrtest /media/volume/teran2_disk/rapidbuild/bbs-3.22-bioc-rapid/R/site-library 0.5.5 4.5.0
pcaMethods /media/volume/teran2_disk/rapidbuild/bbs-3.22-bioc-rapid/R/site-library 2.1.0 4.5.0
pcaPP /media/volume/teran2_disk/rapidbuild/bbs-3.22-bioc-rapid/R/site-library 2.0-5 4.5.0
permute /media/volume/teran2_disk/rapidbuild/bbs-3.22-bioc-rapid/R/site-library 0.9-8 4.5.0
PFAM.db /media/volume/teran2_disk/rapidbuild/bbs-3.22-bioc-rapid/R/site-library 3.21.0 4.5.0
phangorn /media/volume/teran2_disk/rapidbuild/bbs-3.22-bioc-rapid/R/site-library 2.12.1 4.5.0
pheatmap /media/volume/teran2_disk/rapidbuild/bbs-3.22-bioc-rapid/R/site-library 1.0.13 4.5.0
phyloseq /media/volume/teran2_disk/rapidbuild/bbs-3.22-bioc-rapid/R/site-library 1.53.0 4.5.0
pillar /media/volume/teran2_disk/rapidbuild/bbs-3.22-bioc-rapid/R/site-library 1.11.0 4.5.0
pixmap /media/volume/teran2_disk/rapidbuild/bbs-3.22-bioc-rapid/R/site-library 0.4-13 4.5.0
pkgbuild /media/volume/teran2_disk/rapidbuild/bbs-3.22-bioc-rapid/R/site-library 1.4.8 4.5.0
pkgconfig /media/volume/teran2_disk/rapidbuild/bbs-3.22-bioc-rapid/R/site-library 2.0.3 4.5.0
pkgdown /media/volume/teran2_disk/rapidbuild/bbs-3.22-bioc-rapid/R/site-library 2.1.3 4.5.0
pkgload /media/volume/teran2_disk/rapidbuild/bbs-3.22-bioc-rapid/R/site-library 1.4.0 4.5.0
plogr /media/volume/teran2_disk/rapidbuild/bbs-3.22-bioc-rapid/R/site-library 0.2.0 4.5.0
plotly /media/volume/teran2_disk/rapidbuild/bbs-3.22-bioc-rapid/R/site-library 4.11.0 4.5.0
pls /media/volume/teran2_disk/rapidbuild/bbs-3.22-bioc-rapid/R/site-library 2.8-5 4.5.0
plyr /media/volume/teran2_disk/rapidbuild/bbs-3.22-bioc-rapid/R/site-library 1.8.9 4.5.0
png /media/volume/teran2_disk/rapidbuild/bbs-3.22-bioc-rapid/R/site-library 0.1-8 4.5.0
polyclip /media/volume/teran2_disk/rapidbuild/bbs-3.22-bioc-rapid/R/site-library 1.10-7 4.5.0
polynom /media/volume/teran2_disk/rapidbuild/bbs-3.22-bioc-rapid/R/site-library 1.4-1 4.5.0
PolyPhen.Hsapiens.dbSNP131 /media/volume/teran2_disk/rapidbuild/bbs-3.22-bioc-rapid/R/site-library 1.0.2 4.5.0
poweRlaw /media/volume/teran2_disk/rapidbuild/bbs-3.22-bioc-rapid/R/site-library 1.0.0 4.5.0
prabclus /media/volume/teran2_disk/rapidbuild/bbs-3.22-bioc-rapid/R/site-library 2.3-4 4.5.0
pracma /media/volume/teran2_disk/rapidbuild/bbs-3.22-bioc-rapid/R/site-library 2.4.4 4.5.0
praise /media/volume/teran2_disk/rapidbuild/bbs-3.22-bioc-rapid/R/site-library 1.0.0 4.5.0
preprocessCore /media/volume/teran2_disk/rapidbuild/bbs-3.22-bioc-rapid/R/site-library 1.71.2 4.5.0
prettydoc /media/volume/teran2_disk/rapidbuild/bbs-3.22-bioc-rapid/R/site-library 0.4.1 4.5.0
prettyunits /media/volume/teran2_disk/rapidbuild/bbs-3.22-bioc-rapid/R/site-library 1.2.0 4.5.0
princurve /media/volume/teran2_disk/rapidbuild/bbs-3.22-bioc-rapid/R/site-library 2.1.6 4.5.0
pROC /media/volume/teran2_disk/rapidbuild/bbs-3.22-bioc-rapid/R/site-library 1.18.5 4.5.0
processx /media/volume/teran2_disk/rapidbuild/bbs-3.22-bioc-rapid/R/site-library 3.8.6 4.5.0
prodlim /media/volume/teran2_disk/rapidbuild/bbs-3.22-bioc-rapid/R/site-library 2025.04.28 4.5.0
profmem /media/volume/teran2_disk/rapidbuild/bbs-3.22-bioc-rapid/R/site-library 0.7.0 4.5.0
profvis /media/volume/teran2_disk/rapidbuild/bbs-3.22-bioc-rapid/R/site-library 0.4.0 4.5.0
progress /media/volume/teran2_disk/rapidbuild/bbs-3.22-bioc-rapid/R/site-library 1.2.3 4.5.0
progressr /media/volume/teran2_disk/rapidbuild/bbs-3.22-bioc-rapid/R/site-library 0.15.1 4.5.0
proj4 /media/volume/teran2_disk/rapidbuild/bbs-3.22-bioc-rapid/R/site-library 1.0-15 4.5.0
pRoloc /media/volume/teran2_disk/rapidbuild/bbs-3.22-bioc-rapid/R/site-library 1.49.0 4.5.0
pRolocdata /media/volume/teran2_disk/rapidbuild/bbs-3.22-bioc-rapid/R/site-library 1.47.0 4.5.0
promises /media/volume/teran2_disk/rapidbuild/bbs-3.22-bioc-rapid/R/site-library 1.3.3 4.5.0
ProtGenerics /media/volume/teran2_disk/rapidbuild/bbs-3.22-bioc-rapid/R/site-library 1.41.0 4.5.0
proto /media/volume/teran2_disk/rapidbuild/bbs-3.22-bioc-rapid/R/site-library 1.0.0 4.5.0
proxy /media/volume/teran2_disk/rapidbuild/bbs-3.22-bioc-rapid/R/site-library 0.4-27 4.5.0
pryr /media/volume/teran2_disk/rapidbuild/bbs-3.22-bioc-rapid/R/site-library 0.1.6 4.5.0
ps /media/volume/teran2_disk/rapidbuild/bbs-3.22-bioc-rapid/R/site-library 1.9.1 4.5.0
PSMatch /media/volume/teran2_disk/rapidbuild/bbs-3.22-bioc-rapid/R/site-library 1.13.1 4.5.0
purrr /media/volume/teran2_disk/rapidbuild/bbs-3.22-bioc-rapid/R/site-library 1.1.0 4.5.0
pwalign /media/volume/teran2_disk/rapidbuild/bbs-3.22-bioc-rapid/R/site-library 1.5.0 4.5.0
QFeatures /media/volume/teran2_disk/rapidbuild/bbs-3.22-bioc-rapid/R/site-library 1.19.2 4.5.0
quadprog /media/volume/teran2_disk/rapidbuild/bbs-3.22-bioc-rapid/R/site-library 1.5-8 4.5.0
quantreg /media/volume/teran2_disk/rapidbuild/bbs-3.22-bioc-rapid/R/site-library 6.1 4.5.0
questionr /media/volume/teran2_disk/rapidbuild/bbs-3.22-bioc-rapid/R/site-library 0.8.1 4.5.0
qvalue /media/volume/teran2_disk/rapidbuild/bbs-3.22-bioc-rapid/R/site-library 2.41.0 4.5.0
R.cache /media/volume/teran2_disk/rapidbuild/bbs-3.22-bioc-rapid/R/site-library 0.17.0 4.5.0
R.methodsS3 /media/volume/teran2_disk/rapidbuild/bbs-3.22-bioc-rapid/R/site-library 1.8.2 4.5.0
R.oo /media/volume/teran2_disk/rapidbuild/bbs-3.22-bioc-rapid/R/site-library 1.27.1 4.5.0
R.utils /media/volume/teran2_disk/rapidbuild/bbs-3.22-bioc-rapid/R/site-library 2.13.0 4.5.0
R6 /media/volume/teran2_disk/rapidbuild/bbs-3.22-bioc-rapid/R/site-library 2.6.1 4.5.0
rae230a.db /media/volume/teran2_disk/rapidbuild/bbs-3.22-bioc-rapid/R/site-library 3.13.0 4.5.0
rae230aprobe /media/volume/teran2_disk/rapidbuild/bbs-3.22-bioc-rapid/R/site-library 2.18.0 4.5.0
ragg /media/volume/teran2_disk/rapidbuild/bbs-3.22-bioc-rapid/R/site-library 1.4.0 4.5.0
RaggedExperiment /media/volume/teran2_disk/rapidbuild/bbs-3.22-bioc-rapid/R/site-library 1.33.7 4.5.0
rainbow /media/volume/teran2_disk/rapidbuild/bbs-3.22-bioc-rapid/R/site-library 3.8 4.5.0
randomForest /media/volume/teran2_disk/rapidbuild/bbs-3.22-bioc-rapid/R/site-library 4.7-1.2 4.5.0
RANN /media/volume/teran2_disk/rapidbuild/bbs-3.22-bioc-rapid/R/site-library 2.6.2 4.5.0
rappdirs /media/volume/teran2_disk/rapidbuild/bbs-3.22-bioc-rapid/R/site-library 0.3.3 4.5.0
Rattus.norvegicus /media/volume/teran2_disk/rapidbuild/bbs-3.22-bioc-rapid/R/site-library 1.3.1 4.5.0
RBGL /media/volume/teran2_disk/rapidbuild/bbs-3.22-bioc-rapid/R/site-library 1.85.0 4.5.0
rbibutils /media/volume/teran2_disk/rapidbuild/bbs-3.22-bioc-rapid/R/site-library 2.3 4.5.0
rBiopaxParser /media/volume/teran2_disk/rapidbuild/bbs-3.22-bioc-rapid/R/site-library 2.49.0 4.5.0
rcmdcheck /media/volume/teran2_disk/rapidbuild/bbs-3.22-bioc-rapid/R/site-library 1.4.0 4.5.0
RColorBrewer /media/volume/teran2_disk/rapidbuild/bbs-3.22-bioc-rapid/R/site-library 1.1-3 4.5.0
Rcpp /media/volume/teran2_disk/rapidbuild/bbs-3.22-bioc-rapid/R/site-library 1.1.0 4.5.0
RcppAnnoy /media/volume/teran2_disk/rapidbuild/bbs-3.22-bioc-rapid/R/site-library 0.0.22 4.5.0
RcppArmadillo /media/volume/teran2_disk/rapidbuild/bbs-3.22-bioc-rapid/R/site-library 14.6.0-1 4.5.0
RcppEigen /media/volume/teran2_disk/rapidbuild/bbs-3.22-bioc-rapid/R/site-library 0.3.4.0.2 4.5.0
RcppHNSW /media/volume/teran2_disk/rapidbuild/bbs-3.22-bioc-rapid/R/site-library 0.6.0 4.5.0
RcppML /media/volume/teran2_disk/rapidbuild/bbs-3.22-bioc-rapid/R/site-library 0.3.7 4.5.0
RcppNumerical /media/volume/teran2_disk/rapidbuild/bbs-3.22-bioc-rapid/R/site-library 0.6-0 4.5.0
RcppProgress /media/volume/teran2_disk/rapidbuild/bbs-3.22-bioc-rapid/R/site-library 0.4.2 4.5.0
RcppTOML /media/volume/teran2_disk/rapidbuild/bbs-3.22-bioc-rapid/R/site-library 0.2.3 4.5.0
RCurl /media/volume/teran2_disk/rapidbuild/bbs-3.22-bioc-rapid/R/site-library 1.98-1.17 4.5.0
Rdisop /media/volume/teran2_disk/rapidbuild/bbs-3.22-bioc-rapid/R/site-library 1.69.2 4.5.0
Rdpack /media/volume/teran2_disk/rapidbuild/bbs-3.22-bioc-rapid/R/site-library 2.6.4 4.5.0
reactome.db /media/volume/teran2_disk/rapidbuild/bbs-3.22-bioc-rapid/R/site-library 1.92.0 4.5.0
readr /media/volume/teran2_disk/rapidbuild/bbs-3.22-bioc-rapid/R/site-library 2.1.5 4.5.0
recipes /media/volume/teran2_disk/rapidbuild/bbs-3.22-bioc-rapid/R/site-library 1.3.1 4.5.0
RefManageR /media/volume/teran2_disk/rapidbuild/bbs-3.22-bioc-rapid/R/site-library 1.4.0 4.5.0
reformulas /media/volume/teran2_disk/rapidbuild/bbs-3.22-bioc-rapid/R/site-library 0.4.1 4.5.0
regioneR /media/volume/teran2_disk/rapidbuild/bbs-3.22-bioc-rapid/R/site-library 1.41.3 4.5.0
registry /media/volume/teran2_disk/rapidbuild/bbs-3.22-bioc-rapid/R/site-library 0.5-1 4.5.0
remotes /media/volume/teran2_disk/rapidbuild/bbs-3.22-bioc-rapid/R/site-library 2.5.0 4.5.0
rentrez /media/volume/teran2_disk/rapidbuild/bbs-3.22-bioc-rapid/R/site-library 1.2.4 4.5.0
ReportingTools /media/volume/teran2_disk/rapidbuild/bbs-3.22-bioc-rapid/R/site-library 2.49.0 4.5.0
reshape /media/volume/teran2_disk/rapidbuild/bbs-3.22-bioc-rapid/R/site-library 0.8.10 4.5.0
reshape2 /media/volume/teran2_disk/rapidbuild/bbs-3.22-bioc-rapid/R/site-library 1.4.4 4.5.0
ResidualMatrix /media/volume/teran2_disk/rapidbuild/bbs-3.22-bioc-rapid/R/site-library 1.19.0 4.5.0
restfulr /media/volume/teran2_disk/rapidbuild/bbs-3.22-bioc-rapid/R/site-library 0.0.16 4.5.0
reticulate /media/volume/teran2_disk/rapidbuild/bbs-3.22-bioc-rapid/R/site-library 1.43.0 4.5.0
rex /media/volume/teran2_disk/rapidbuild/bbs-3.22-bioc-rapid/R/site-library 1.2.1 4.5.0
rgl /media/volume/teran2_disk/rapidbuild/bbs-3.22-bioc-rapid/R/site-library 1.3.24 4.5.0
Rgraphviz /media/volume/teran2_disk/rapidbuild/bbs-3.22-bioc-rapid/R/site-library 2.53.0 4.5.0
rhdf5 /media/volume/teran2_disk/rapidbuild/bbs-3.22-bioc-rapid/R/site-library 2.53.3 4.5.0
rhdf5filters /media/volume/teran2_disk/rapidbuild/bbs-3.22-bioc-rapid/R/site-library 1.21.0 4.5.0
Rhdf5lib /media/volume/teran2_disk/rapidbuild/bbs-3.22-bioc-rapid/R/site-library 1.31.0 4.5.0
Rhtslib /media/volume/teran2_disk/rapidbuild/bbs-3.22-bioc-rapid/R/site-library 3.5.0 4.5.0
Rigraphlib /media/volume/teran2_disk/rapidbuild/bbs-3.22-bioc-rapid/R/site-library 1.1.1 4.5.0
rjson /media/volume/teran2_disk/rapidbuild/bbs-3.22-bioc-rapid/R/site-library 0.2.23 4.5.0
rjsoncons /media/volume/teran2_disk/rapidbuild/bbs-3.22-bioc-rapid/R/site-library 1.3.2 4.5.0
rlang /media/volume/teran2_disk/rapidbuild/bbs-3.22-bioc-rapid/R/site-library 1.1.6 4.5.0
RMariaDB /media/volume/teran2_disk/rapidbuild/bbs-3.22-bioc-rapid/R/site-library 1.3.4 4.5.0
rmarkdown /media/volume/teran2_disk/rapidbuild/bbs-3.22-bioc-rapid/R/site-library 2.29 4.5.0
RNAseqData.HNRNPC.bam.chr14 /media/volume/teran2_disk/rapidbuild/bbs-3.22-bioc-rapid/R/site-library 0.47.0 4.5.0
rngtools /media/volume/teran2_disk/rapidbuild/bbs-3.22-bioc-rapid/R/site-library 1.5.2 4.5.0
robustbase /media/volume/teran2_disk/rapidbuild/bbs-3.22-bioc-rapid/R/site-library 0.99-4-1 4.5.0
ROC /media/volume/teran2_disk/rapidbuild/bbs-3.22-bioc-rapid/R/site-library 1.85.0 4.5.0
ROCR /media/volume/teran2_disk/rapidbuild/bbs-3.22-bioc-rapid/R/site-library 1.0-11 4.5.0
rols /media/volume/teran2_disk/rapidbuild/bbs-3.22-bioc-rapid/R/site-library 3.5.0 4.5.0
rorcid /media/volume/teran2_disk/rapidbuild/bbs-3.22-bioc-rapid/R/site-library 0.7.0 4.5.0
roxygen2 /media/volume/teran2_disk/rapidbuild/bbs-3.22-bioc-rapid/R/site-library 7.3.2 4.5.0
RPMM /media/volume/teran2_disk/rapidbuild/bbs-3.22-bioc-rapid/R/site-library 1.25 4.5.0
RPostgreSQL /media/volume/teran2_disk/rapidbuild/bbs-3.22-bioc-rapid/R/site-library 0.7-8 4.5.0
rprojroot /media/volume/teran2_disk/rapidbuild/bbs-3.22-bioc-rapid/R/site-library 2.1.0 4.5.0
RProtoBufLib /media/volume/teran2_disk/rapidbuild/bbs-3.22-bioc-rapid/R/site-library 2.21.0 4.5.0
rpx /media/volume/teran2_disk/rapidbuild/bbs-3.22-bioc-rapid/R/site-library 2.17.0 4.5.0
rrcov /media/volume/teran2_disk/rapidbuild/bbs-3.22-bioc-rapid/R/site-library 1.7-7 4.5.0
Rsamtools /media/volume/teran2_disk/rapidbuild/bbs-3.22-bioc-rapid/R/site-library 2.25.1 4.5.0
RSpectra /media/volume/teran2_disk/rapidbuild/bbs-3.22-bioc-rapid/R/site-library 0.16-2 4.5.0
RSQLite /media/volume/teran2_disk/rapidbuild/bbs-3.22-bioc-rapid/R/site-library 2.4.2 4.5.0
rstatix /media/volume/teran2_disk/rapidbuild/bbs-3.22-bioc-rapid/R/site-library 0.7.2 4.5.0
rstudioapi /media/volume/teran2_disk/rapidbuild/bbs-3.22-bioc-rapid/R/site-library 0.17.1 4.5.0
Rsubread /media/volume/teran2_disk/rapidbuild/bbs-3.22-bioc-rapid/R/site-library 2.23.2 4.5.0
rsvd /media/volume/teran2_disk/rapidbuild/bbs-3.22-bioc-rapid/R/site-library 1.0.5 4.5.0
rsvg /media/volume/teran2_disk/rapidbuild/bbs-3.22-bioc-rapid/R/site-library 2.6.2 4.5.0
rtracklayer /media/volume/teran2_disk/rapidbuild/bbs-3.22-bioc-rapid/R/site-library 1.69.1 4.5.0
Rtsne /media/volume/teran2_disk/rapidbuild/bbs-3.22-bioc-rapid/R/site-library 0.17 4.5.0
Rttf2pt1 /media/volume/teran2_disk/rapidbuild/bbs-3.22-bioc-rapid/R/site-library 1.3.12 4.5.0
RUnit /media/volume/teran2_disk/rapidbuild/bbs-3.22-bioc-rapid/R/site-library 0.4.33.1 4.5.0
rversions /media/volume/teran2_disk/rapidbuild/bbs-3.22-bioc-rapid/R/site-library 2.1.2 4.5.0
rvest /media/volume/teran2_disk/rapidbuild/bbs-3.22-bioc-rapid/R/site-library 1.0.4 4.5.0
S4Arrays /media/volume/teran2_disk/rapidbuild/bbs-3.22-bioc-rapid/R/site-library 1.9.1 4.5.0
S4Vectors /media/volume/teran2_disk/rapidbuild/bbs-3.22-bioc-rapid/R/site-library 0.47.0 4.5.0
S7 /media/volume/teran2_disk/rapidbuild/bbs-3.22-bioc-rapid/R/site-library 0.2.0 4.5.0
sampling /media/volume/teran2_disk/rapidbuild/bbs-3.22-bioc-rapid/R/site-library 2.11 4.5.0
samr /media/volume/teran2_disk/rapidbuild/bbs-3.22-bioc-rapid/R/site-library 3.0 4.5.0
sandwich /media/volume/teran2_disk/rapidbuild/bbs-3.22-bioc-rapid/R/site-library 3.1-1 4.5.0
sass /media/volume/teran2_disk/rapidbuild/bbs-3.22-bioc-rapid/R/site-library 0.4.10 4.5.0
ScaledMatrix /media/volume/teran2_disk/rapidbuild/bbs-3.22-bioc-rapid/R/site-library 1.17.0 4.5.0
scales /media/volume/teran2_disk/rapidbuild/bbs-3.22-bioc-rapid/R/site-library 1.4.0 4.5.0
scater /media/volume/teran2_disk/rapidbuild/bbs-3.22-bioc-rapid/R/site-library 1.37.0 4.5.0
scattermore /media/volume/teran2_disk/rapidbuild/bbs-3.22-bioc-rapid/R/site-library 1.2 4.5.0
scatterpie /media/volume/teran2_disk/rapidbuild/bbs-3.22-bioc-rapid/R/site-library 0.2.5 4.5.0
scatterplot3d /media/volume/teran2_disk/rapidbuild/bbs-3.22-bioc-rapid/R/site-library 0.3-44 4.5.0
scran /media/volume/teran2_disk/rapidbuild/bbs-3.22-bioc-rapid/R/site-library 1.37.0 4.5.0
scrapper /media/volume/teran2_disk/rapidbuild/bbs-3.22-bioc-rapid/R/site-library 1.3.5 4.5.0
scrime /media/volume/teran2_disk/rapidbuild/bbs-3.22-bioc-rapid/R/site-library 1.3.5 4.5.0
scRNAseq /media/volume/teran2_disk/rapidbuild/bbs-3.22-bioc-rapid/R/site-library 2.23.0 4.5.0
sctransform /media/volume/teran2_disk/rapidbuild/bbs-3.22-bioc-rapid/R/site-library 0.4.2 4.5.0
scuttle /media/volume/teran2_disk/rapidbuild/bbs-3.22-bioc-rapid/R/site-library 1.19.0 4.5.0
segmented /media/volume/teran2_disk/rapidbuild/bbs-3.22-bioc-rapid/R/site-library 2.1-4 4.5.0
selectr /media/volume/teran2_disk/rapidbuild/bbs-3.22-bioc-rapid/R/site-library 0.4-2 4.5.0
Seqinfo /media/volume/teran2_disk/rapidbuild/bbs-3.22-bioc-rapid/R/site-library 0.99.2 4.5.0
seqLogo /media/volume/teran2_disk/rapidbuild/bbs-3.22-bioc-rapid/R/site-library 1.75.0 4.5.0
sesame /media/volume/teran2_disk/rapidbuild/bbs-3.22-bioc-rapid/R/site-library 1.27.1 4.5.0
sesameData /media/volume/teran2_disk/rapidbuild/bbs-3.22-bioc-rapid/R/site-library 1.27.1 4.5.0
sessioninfo /media/volume/teran2_disk/rapidbuild/bbs-3.22-bioc-rapid/R/site-library 1.2.3 4.5.0
Seurat /media/volume/teran2_disk/rapidbuild/bbs-3.22-bioc-rapid/R/site-library 5.3.0 4.5.0
SeuratObject /media/volume/teran2_disk/rapidbuild/bbs-3.22-bioc-rapid/R/site-library 5.1.0 4.5.0
sfsmisc /media/volume/teran2_disk/rapidbuild/bbs-3.22-bioc-rapid/R/site-library 1.1-20 4.5.0
shadowtext /media/volume/teran2_disk/rapidbuild/bbs-3.22-bioc-rapid/R/site-library 0.1.5 4.5.0
shape /media/volume/teran2_disk/rapidbuild/bbs-3.22-bioc-rapid/R/site-library 1.4.6.1 4.5.0
shiny /media/volume/teran2_disk/rapidbuild/bbs-3.22-bioc-rapid/R/site-library 1.11.1 4.5.0
shinybusy /media/volume/teran2_disk/rapidbuild/bbs-3.22-bioc-rapid/R/site-library 0.3.3 4.5.0
shinydashboard /media/volume/teran2_disk/rapidbuild/bbs-3.22-bioc-rapid/R/site-library 0.7.3 4.5.0
shinyFiles /media/volume/teran2_disk/rapidbuild/bbs-3.22-bioc-rapid/R/site-library 0.9.3 4.5.0
shinyjs /media/volume/teran2_disk/rapidbuild/bbs-3.22-bioc-rapid/R/site-library 2.1.0 4.5.0
ShortRead /media/volume/teran2_disk/rapidbuild/bbs-3.22-bioc-rapid/R/site-library 1.67.0 4.5.0
showtext /media/volume/teran2_disk/rapidbuild/bbs-3.22-bioc-rapid/R/site-library 0.9-7 4.5.0
showtextdb /media/volume/teran2_disk/rapidbuild/bbs-3.22-bioc-rapid/R/site-library 3.0 4.5.0
SIFT.Hsapiens.dbSNP132 /media/volume/teran2_disk/rapidbuild/bbs-3.22-bioc-rapid/R/site-library 1.0.2 4.5.0
SIFT.Hsapiens.dbSNP137 /media/volume/teran2_disk/rapidbuild/bbs-3.22-bioc-rapid/R/site-library 1.0.0 4.5.0
siggenes /media/volume/teran2_disk/rapidbuild/bbs-3.22-bioc-rapid/R/site-library 1.83.0 4.5.0
signal /media/volume/teran2_disk/rapidbuild/bbs-3.22-bioc-rapid/R/site-library 1.8-1 4.5.0
SingleCellExperiment /media/volume/teran2_disk/rapidbuild/bbs-3.22-bioc-rapid/R/site-library 1.31.1 4.5.0
SingleR /media/volume/teran2_disk/rapidbuild/bbs-3.22-bioc-rapid/R/site-library 2.11.3 4.5.0
sitmo /media/volume/teran2_disk/rapidbuild/bbs-3.22-bioc-rapid/R/site-library 2.0.2 4.5.0
slam /media/volume/teran2_disk/rapidbuild/bbs-3.22-bioc-rapid/R/site-library 0.1-55 4.5.0
snifter /media/volume/teran2_disk/rapidbuild/bbs-3.22-bioc-rapid/R/site-library 1.19.3 4.5.0
snow /media/volume/teran2_disk/rapidbuild/bbs-3.22-bioc-rapid/R/site-library 0.4-4 4.5.0
SnowballC /media/volume/teran2_disk/rapidbuild/bbs-3.22-bioc-rapid/R/site-library 0.7.1 4.5.0
SNPlocs.Hsapiens.dbSNP144.GRCh37 /media/volume/teran2_disk/rapidbuild/bbs-3.22-bioc-rapid/R/site-library 0.99.20 4.5.0
SNPlocs.Hsapiens.dbSNP144.GRCh38 /media/volume/teran2_disk/rapidbuild/bbs-3.22-bioc-rapid/R/site-library 0.99.20 4.5.0
snpStats /media/volume/teran2_disk/rapidbuild/bbs-3.22-bioc-rapid/R/site-library 1.59.2 4.5.0
som /media/volume/teran2_disk/rapidbuild/bbs-3.22-bioc-rapid/R/site-library 0.3-5.2 4.5.0
sourcetools /media/volume/teran2_disk/rapidbuild/bbs-3.22-bioc-rapid/R/site-library 0.1.7-1 4.5.0
sp /media/volume/teran2_disk/rapidbuild/bbs-3.22-bioc-rapid/R/site-library 2.2-0 4.5.0
spam /media/volume/teran2_disk/rapidbuild/bbs-3.22-bioc-rapid/R/site-library 2.11-1 4.5.0
SparseArray /media/volume/teran2_disk/rapidbuild/bbs-3.22-bioc-rapid/R/site-library 1.9.1 4.5.0
SparseM /media/volume/teran2_disk/rapidbuild/bbs-3.22-bioc-rapid/R/site-library 1.84-2 4.5.0
sparseMatrixStats /media/volume/teran2_disk/rapidbuild/bbs-3.22-bioc-rapid/R/site-library 1.21.0 4.5.0
sparsevctrs /media/volume/teran2_disk/rapidbuild/bbs-3.22-bioc-rapid/R/site-library 0.3.4 4.5.0
SpatialExperiment /media/volume/teran2_disk/rapidbuild/bbs-3.22-bioc-rapid/R/site-library 1.19.1 4.5.0
spatstat.data /media/volume/teran2_disk/rapidbuild/bbs-3.22-bioc-rapid/R/site-library 3.1-6 4.5.0
spatstat.explore /media/volume/teran2_disk/rapidbuild/bbs-3.22-bioc-rapid/R/site-library 3.5-2 4.5.0
spatstat.geom /media/volume/teran2_disk/rapidbuild/bbs-3.22-bioc-rapid/R/site-library 3.5-0 4.5.0
spatstat.random /media/volume/teran2_disk/rapidbuild/bbs-3.22-bioc-rapid/R/site-library 3.4-1 4.5.0
spatstat.sparse /media/volume/teran2_disk/rapidbuild/bbs-3.22-bioc-rapid/R/site-library 3.1-0 4.5.0
spatstat.univar /media/volume/teran2_disk/rapidbuild/bbs-3.22-bioc-rapid/R/site-library 3.1-4 4.5.0
spatstat.utils /media/volume/teran2_disk/rapidbuild/bbs-3.22-bioc-rapid/R/site-library 3.1-5 4.5.0
Spectra /media/volume/teran2_disk/rapidbuild/bbs-3.22-bioc-rapid/R/site-library 1.19.4 4.5.0
spelling /media/volume/teran2_disk/rapidbuild/bbs-3.22-bioc-rapid/R/site-library 2.3.1 4.5.0
SPIA /media/volume/teran2_disk/rapidbuild/bbs-3.22-bioc-rapid/R/site-library 2.61.0 4.5.0
SQUAREM /media/volume/teran2_disk/rapidbuild/bbs-3.22-bioc-rapid/R/site-library 2021.1 4.5.0
stabs /media/volume/teran2_disk/rapidbuild/bbs-3.22-bioc-rapid/R/site-library 0.6-4 4.5.0
statmod /media/volume/teran2_disk/rapidbuild/bbs-3.22-bioc-rapid/R/site-library 1.5.0 4.5.0
stringdist /media/volume/teran2_disk/rapidbuild/bbs-3.22-bioc-rapid/R/site-library 0.9.15 4.5.0
stringi /media/volume/teran2_disk/rapidbuild/bbs-3.22-bioc-rapid/R/site-library 1.8.7 4.5.0
stringr /media/volume/teran2_disk/rapidbuild/bbs-3.22-bioc-rapid/R/site-library 1.5.1 4.5.0
strucchange /media/volume/teran2_disk/rapidbuild/bbs-3.22-bioc-rapid/R/site-library 1.5-4 4.5.0
styler /media/volume/teran2_disk/rapidbuild/bbs-3.22-bioc-rapid/R/site-library 1.10.3 4.5.0
SummarizedExperiment /media/volume/teran2_disk/rapidbuild/bbs-3.22-bioc-rapid/R/site-library 1.39.1 4.5.0
survminer /media/volume/teran2_disk/rapidbuild/bbs-3.22-bioc-rapid/R/site-library 0.5.0 4.5.0
survMisc /media/volume/teran2_disk/rapidbuild/bbs-3.22-bioc-rapid/R/site-library 0.5.6 4.5.0
sva /media/volume/teran2_disk/rapidbuild/bbs-3.22-bioc-rapid/R/site-library 3.57.0 4.5.0
svglite /media/volume/teran2_disk/rapidbuild/bbs-3.22-bioc-rapid/R/site-library 2.2.1 4.5.0
svMisc /media/volume/teran2_disk/rapidbuild/bbs-3.22-bioc-rapid/R/site-library 1.4.3 4.5.0
sys /media/volume/teran2_disk/rapidbuild/bbs-3.22-bioc-rapid/R/site-library 3.4.3 4.5.0
sysfonts /media/volume/teran2_disk/rapidbuild/bbs-3.22-bioc-rapid/R/site-library 0.8.9 4.5.0
systemfonts /media/volume/teran2_disk/rapidbuild/bbs-3.22-bioc-rapid/R/site-library 1.2.3 4.5.0
TCGAbiolinks /media/volume/teran2_disk/rapidbuild/bbs-3.22-bioc-rapid/R/site-library 2.37.1 4.5.0
TCGAbiolinksGUI.data /media/volume/teran2_disk/rapidbuild/bbs-3.22-bioc-rapid/R/site-library 1.29.0 4.5.0
tensor /media/volume/teran2_disk/rapidbuild/bbs-3.22-bioc-rapid/R/site-library 1.5.1 4.5.0
tensorflow /media/volume/teran2_disk/rapidbuild/bbs-3.22-bioc-rapid/R/site-library 2.16.0 4.5.0
TENxBrainData /media/volume/teran2_disk/rapidbuild/bbs-3.22-bioc-rapid/R/site-library 1.29.0 4.5.0
TENxIO /media/volume/teran2_disk/rapidbuild/bbs-3.22-bioc-rapid/R/site-library 1.11.5 4.5.0
TENxPBMCData /media/volume/teran2_disk/rapidbuild/bbs-3.22-bioc-rapid/R/site-library 1.27.0 4.5.0
testthat /media/volume/teran2_disk/rapidbuild/bbs-3.22-bioc-rapid/R/site-library 3.2.3 4.5.0
textshaping /media/volume/teran2_disk/rapidbuild/bbs-3.22-bioc-rapid/R/site-library 1.0.1 4.5.0
tfautograph /media/volume/teran2_disk/rapidbuild/bbs-3.22-bioc-rapid/R/site-library 0.3.2 4.5.0
TFBSTools /media/volume/teran2_disk/rapidbuild/bbs-3.22-bioc-rapid/R/site-library 1.47.1 4.5.0
TFMPvalue /media/volume/teran2_disk/rapidbuild/bbs-3.22-bioc-rapid/R/site-library 0.0.9 4.5.0
tfruns /media/volume/teran2_disk/rapidbuild/bbs-3.22-bioc-rapid/R/site-library 1.5.3 4.5.0
TH.data /media/volume/teran2_disk/rapidbuild/bbs-3.22-bioc-rapid/R/site-library 1.1-3 4.5.0
threejs /media/volume/teran2_disk/rapidbuild/bbs-3.22-bioc-rapid/R/site-library 0.3.4 4.5.0
tibble /media/volume/teran2_disk/rapidbuild/bbs-3.22-bioc-rapid/R/site-library 3.3.0 4.5.0
tidydr /media/volume/teran2_disk/rapidbuild/bbs-3.22-bioc-rapid/R/site-library 0.0.5 4.5.0
tidyr /media/volume/teran2_disk/rapidbuild/bbs-3.22-bioc-rapid/R/site-library 1.3.1 4.5.0
tidyselect /media/volume/teran2_disk/rapidbuild/bbs-3.22-bioc-rapid/R/site-library 1.2.1 4.5.0
tidytext /media/volume/teran2_disk/rapidbuild/bbs-3.22-bioc-rapid/R/site-library 0.4.2 4.5.0
tidytree /media/volume/teran2_disk/rapidbuild/bbs-3.22-bioc-rapid/R/site-library 0.4.6 4.5.0
tiff /media/volume/teran2_disk/rapidbuild/bbs-3.22-bioc-rapid/R/site-library 0.1-12 4.5.0
timechange /media/volume/teran2_disk/rapidbuild/bbs-3.22-bioc-rapid/R/site-library 0.3.0 4.5.0
timeDate /media/volume/teran2_disk/rapidbuild/bbs-3.22-bioc-rapid/R/site-library 4041.110 4.5.0
tinytest /media/volume/teran2_disk/rapidbuild/bbs-3.22-bioc-rapid/R/site-library 1.4.1 4.5.0
tinytex /media/volume/teran2_disk/rapidbuild/bbs-3.22-bioc-rapid/R/site-library 0.57 4.5.0
tkWidgets /media/volume/teran2_disk/rapidbuild/bbs-3.22-bioc-rapid/R/site-library 1.87.0 4.5.0
tm /media/volume/teran2_disk/rapidbuild/bbs-3.22-bioc-rapid/R/site-library 0.7-16 4.5.0
tmvtnorm /media/volume/teran2_disk/rapidbuild/bbs-3.22-bioc-rapid/R/site-library 1.6 4.5.0
tokenizers /media/volume/teran2_disk/rapidbuild/bbs-3.22-bioc-rapid/R/site-library 0.3.0 4.5.0
treeio /media/volume/teran2_disk/rapidbuild/bbs-3.22-bioc-rapid/R/site-library 1.33.0 4.5.0
triebeard /media/volume/teran2_disk/rapidbuild/bbs-3.22-bioc-rapid/R/site-library 0.4.1 4.5.0
truncnorm /media/volume/teran2_disk/rapidbuild/bbs-3.22-bioc-rapid/R/site-library 1.0-9 4.5.0
tweenr /media/volume/teran2_disk/rapidbuild/bbs-3.22-bioc-rapid/R/site-library 2.0.3 4.5.0
TxDb.Athaliana.BioMart.plantsmart22 /media/volume/teran2_disk/rapidbuild/bbs-3.22-bioc-rapid/R/site-library 3.0.1 4.5.0
TxDb.Celegans.UCSC.ce11.ensGene /media/volume/teran2_disk/rapidbuild/bbs-3.22-bioc-rapid/R/site-library 3.15.0 4.5.0
TxDb.Dmelanogaster.UCSC.dm3.ensGene /media/volume/teran2_disk/rapidbuild/bbs-3.22-bioc-rapid/R/site-library 3.2.2 4.5.0
TxDb.Drerio.UCSC.danRer10.refGene /media/volume/teran2_disk/rapidbuild/bbs-3.22-bioc-rapid/R/site-library 3.4.6 4.5.0
TxDb.Hsapiens.UCSC.hg18.knownGene /media/volume/teran2_disk/rapidbuild/bbs-3.22-bioc-rapid/R/site-library 3.2.2 4.5.0
TxDb.Hsapiens.UCSC.hg19.knownGene /media/volume/teran2_disk/rapidbuild/bbs-3.22-bioc-rapid/R/site-library 3.2.2 4.5.0
TxDb.Hsapiens.UCSC.hg19.lincRNAsTranscripts /media/volume/teran2_disk/rapidbuild/bbs-3.22-bioc-rapid/R/site-library 3.2.2 4.5.0
TxDb.Hsapiens.UCSC.hg38.knownGene /media/volume/teran2_disk/rapidbuild/bbs-3.22-bioc-rapid/R/site-library 3.21.0 4.5.0
TxDb.Mmusculus.UCSC.mm10.knownGene /media/volume/teran2_disk/rapidbuild/bbs-3.22-bioc-rapid/R/site-library 3.10.0 4.5.0
TxDb.Mmusculus.UCSC.mm9.knownGene /media/volume/teran2_disk/rapidbuild/bbs-3.22-bioc-rapid/R/site-library 3.2.2 4.5.0
TxDb.Rnorvegicus.UCSC.rn5.refGene /media/volume/teran2_disk/rapidbuild/bbs-3.22-bioc-rapid/R/site-library 3.12.0 4.5.0
txdbmaker /media/volume/teran2_disk/rapidbuild/bbs-3.22-bioc-rapid/R/site-library 1.5.6 4.5.0
tximeta /media/volume/teran2_disk/rapidbuild/bbs-3.22-bioc-rapid/R/site-library 1.27.2 4.5.0
tximport /media/volume/teran2_disk/rapidbuild/bbs-3.22-bioc-rapid/R/site-library 1.37.1 4.5.0
tximportData /media/volume/teran2_disk/rapidbuild/bbs-3.22-bioc-rapid/R/site-library 1.37.1 4.5.0
tzdb /media/volume/teran2_disk/rapidbuild/bbs-3.22-bioc-rapid/R/site-library 0.5.0 4.5.0
UCSC.utils /media/volume/teran2_disk/rapidbuild/bbs-3.22-bioc-rapid/R/site-library 1.5.0 4.5.0
umap /media/volume/teran2_disk/rapidbuild/bbs-3.22-bioc-rapid/R/site-library 0.2.10.0 4.5.0
UpSetR /media/volume/teran2_disk/rapidbuild/bbs-3.22-bioc-rapid/R/site-library 1.4.0 4.5.0
urlchecker /media/volume/teran2_disk/rapidbuild/bbs-3.22-bioc-rapid/R/site-library 1.0.1 4.5.0
urltools /media/volume/teran2_disk/rapidbuild/bbs-3.22-bioc-rapid/R/site-library 1.7.3.1 4.5.0
usethis /media/volume/teran2_disk/rapidbuild/bbs-3.22-bioc-rapid/R/site-library 3.1.0 4.5.0
utf8 /media/volume/teran2_disk/rapidbuild/bbs-3.22-bioc-rapid/R/site-library 1.2.6 4.5.0
uuid /media/volume/teran2_disk/rapidbuild/bbs-3.22-bioc-rapid/R/site-library 1.2-1 4.5.0
uwot /media/volume/teran2_disk/rapidbuild/bbs-3.22-bioc-rapid/R/site-library 0.2.3 4.5.0
V8 /media/volume/teran2_disk/rapidbuild/bbs-3.22-bioc-rapid/R/site-library 6.0.4 4.5.0
VariantAnnotation /media/volume/teran2_disk/rapidbuild/bbs-3.22-bioc-rapid/R/site-library 1.55.1 4.5.0
vctrs /media/volume/teran2_disk/rapidbuild/bbs-3.22-bioc-rapid/R/site-library 0.6.5 4.5.0
vdiffr /media/volume/teran2_disk/rapidbuild/bbs-3.22-bioc-rapid/R/site-library 1.0.8 4.5.0
vegan /media/volume/teran2_disk/rapidbuild/bbs-3.22-bioc-rapid/R/site-library 2.7-1 4.5.0
vipor /media/volume/teran2_disk/rapidbuild/bbs-3.22-bioc-rapid/R/site-library 0.4.7 4.5.0
viridis /media/volume/teran2_disk/rapidbuild/bbs-3.22-bioc-rapid/R/site-library 0.6.5 4.5.0
viridisLite /media/volume/teran2_disk/rapidbuild/bbs-3.22-bioc-rapid/R/site-library 0.4.2 4.5.0
VisiumIO /media/volume/teran2_disk/rapidbuild/bbs-3.22-bioc-rapid/R/site-library 1.5.6 4.5.0
visNetwork /media/volume/teran2_disk/rapidbuild/bbs-3.22-bioc-rapid/R/site-library 2.1.2 4.5.0
vroom /media/volume/teran2_disk/rapidbuild/bbs-3.22-bioc-rapid/R/site-library 1.6.5 4.5.0
vsn /media/volume/teran2_disk/rapidbuild/bbs-3.22-bioc-rapid/R/site-library 3.77.0 4.5.0
waldo /media/volume/teran2_disk/rapidbuild/bbs-3.22-bioc-rapid/R/site-library 0.6.2 4.5.0
waveslim /media/volume/teran2_disk/rapidbuild/bbs-3.22-bioc-rapid/R/site-library 1.8.5 4.5.0
wheatmap /media/volume/teran2_disk/rapidbuild/bbs-3.22-bioc-rapid/R/site-library 0.2.0 4.5.0
whisker /media/volume/teran2_disk/rapidbuild/bbs-3.22-bioc-rapid/R/site-library 0.4.1 4.5.0
widgetTools /media/volume/teran2_disk/rapidbuild/bbs-3.22-bioc-rapid/R/site-library 1.87.0 4.5.0
withr /media/volume/teran2_disk/rapidbuild/bbs-3.22-bioc-rapid/R/site-library 3.0.2 4.5.0
Wrench /media/volume/teran2_disk/rapidbuild/bbs-3.22-bioc-rapid/R/site-library 1.27.0 4.5.0
xcms /media/volume/teran2_disk/rapidbuild/bbs-3.22-bioc-rapid/R/site-library 4.7.2 4.5.0
xfun /media/volume/teran2_disk/rapidbuild/bbs-3.22-bioc-rapid/R/site-library 0.52 4.5.0
XML /media/volume/teran2_disk/rapidbuild/bbs-3.22-bioc-rapid/R/site-library 3.99-0.18 4.5.0
xml2 /media/volume/teran2_disk/rapidbuild/bbs-3.22-bioc-rapid/R/site-library 1.3.8 4.5.0
xopen /media/volume/teran2_disk/rapidbuild/bbs-3.22-bioc-rapid/R/site-library 1.0.1 4.5.0
xtable /media/volume/teran2_disk/rapidbuild/bbs-3.22-bioc-rapid/R/site-library 1.8-4 4.5.0
XtraSNPlocs.Hsapiens.dbSNP144.GRCh38 /media/volume/teran2_disk/rapidbuild/bbs-3.22-bioc-rapid/R/site-library 0.99.12 4.5.0
XVector /media/volume/teran2_disk/rapidbuild/bbs-3.22-bioc-rapid/R/site-library 0.49.0 4.5.0
yaml /media/volume/teran2_disk/rapidbuild/bbs-3.22-bioc-rapid/R/site-library 2.3.10 4.5.0
yeastNagalakshmi /media/volume/teran2_disk/rapidbuild/bbs-3.22-bioc-rapid/R/site-library 1.45.0 4.5.0
yeastRNASeq /media/volume/teran2_disk/rapidbuild/bbs-3.22-bioc-rapid/R/site-library 0.47.0 4.5.0
yesno /media/volume/teran2_disk/rapidbuild/bbs-3.22-bioc-rapid/R/site-library 0.1.3 4.5.0
yulab.utils /media/volume/teran2_disk/rapidbuild/bbs-3.22-bioc-rapid/R/site-library 0.2.0 4.5.0
zeallot /media/volume/teran2_disk/rapidbuild/bbs-3.22-bioc-rapid/R/site-library 0.2.0 4.5.0
zebrafishRNASeq /media/volume/teran2_disk/rapidbuild/bbs-3.22-bioc-rapid/R/site-library 1.29.0 4.5.0
zellkonverter /media/volume/teran2_disk/rapidbuild/bbs-3.22-bioc-rapid/R/site-library 1.19.2 4.5.0
zip /media/volume/teran2_disk/rapidbuild/bbs-3.22-bioc-rapid/R/site-library 2.3.3 4.5.0
zoo /media/volume/teran2_disk/rapidbuild/bbs-3.22-bioc-rapid/R/site-library 1.8-14 4.5.0
base /media/volume/teran2_disk/rapidbuild/bbs-3.22-bioc-rapid/R/library 4.5.0 4.5.0
boot /media/volume/teran2_disk/rapidbuild/bbs-3.22-bioc-rapid/R/library 1.3-31 4.5.0
class /media/volume/teran2_disk/rapidbuild/bbs-3.22-bioc-rapid/R/library 7.3-23 4.5.0
cluster /media/volume/teran2_disk/rapidbuild/bbs-3.22-bioc-rapid/R/library 2.1.8.1 4.5.0
codetools /media/volume/teran2_disk/rapidbuild/bbs-3.22-bioc-rapid/R/library 0.2-20 4.5.0
compiler /media/volume/teran2_disk/rapidbuild/bbs-3.22-bioc-rapid/R/library 4.5.0 4.5.0
datasets /media/volume/teran2_disk/rapidbuild/bbs-3.22-bioc-rapid/R/library 4.5.0 4.5.0
foreign /media/volume/teran2_disk/rapidbuild/bbs-3.22-bioc-rapid/R/library 0.8-90 4.5.0
graphics /media/volume/teran2_disk/rapidbuild/bbs-3.22-bioc-rapid/R/library 4.5.0 4.5.0
grDevices /media/volume/teran2_disk/rapidbuild/bbs-3.22-bioc-rapid/R/library 4.5.0 4.5.0
grid /media/volume/teran2_disk/rapidbuild/bbs-3.22-bioc-rapid/R/library 4.5.0 4.5.0
KernSmooth /media/volume/teran2_disk/rapidbuild/bbs-3.22-bioc-rapid/R/library 2.23-26 4.5.0
lattice /media/volume/teran2_disk/rapidbuild/bbs-3.22-bioc-rapid/R/library 0.22-7 4.5.0
MASS /media/volume/teran2_disk/rapidbuild/bbs-3.22-bioc-rapid/R/library 7.3-65 4.5.0
Matrix /media/volume/teran2_disk/rapidbuild/bbs-3.22-bioc-rapid/R/library 1.7-3 4.5.0
methods /media/volume/teran2_disk/rapidbuild/bbs-3.22-bioc-rapid/R/library 4.5.0 4.5.0
mgcv /media/volume/teran2_disk/rapidbuild/bbs-3.22-bioc-rapid/R/library 1.9-3 4.5.0
nlme /media/volume/teran2_disk/rapidbuild/bbs-3.22-bioc-rapid/R/library 3.1-168 4.5.0
nnet /media/volume/teran2_disk/rapidbuild/bbs-3.22-bioc-rapid/R/library 7.3-20 4.5.0
parallel /media/volume/teran2_disk/rapidbuild/bbs-3.22-bioc-rapid/R/library 4.5.0 4.5.0
rpart /media/volume/teran2_disk/rapidbuild/bbs-3.22-bioc-rapid/R/library 4.1.24 4.5.0
spatial /media/volume/teran2_disk/rapidbuild/bbs-3.22-bioc-rapid/R/library 7.3-18 4.5.0
splines /media/volume/teran2_disk/rapidbuild/bbs-3.22-bioc-rapid/R/library 4.5.0 4.5.0
stats /media/volume/teran2_disk/rapidbuild/bbs-3.22-bioc-rapid/R/library 4.5.0 4.5.0
stats4 /media/volume/teran2_disk/rapidbuild/bbs-3.22-bioc-rapid/R/library 4.5.0 4.5.0
survival /media/volume/teran2_disk/rapidbuild/bbs-3.22-bioc-rapid/R/library 3.8-3 4.5.0
tcltk /media/volume/teran2_disk/rapidbuild/bbs-3.22-bioc-rapid/R/library 4.5.0 4.5.0
tools /media/volume/teran2_disk/rapidbuild/bbs-3.22-bioc-rapid/R/library 4.5.0 4.5.0
utils /media/volume/teran2_disk/rapidbuild/bbs-3.22-bioc-rapid/R/library 4.5.0 4.5.0