Package: BiocPkgTools Version: 1.27.9 Command: /home/rapidbuild/bbs-3.22-bioc-rapid/R/bin/R CMD check --install=check:BiocPkgTools.install-out.txt --library=/home/rapidbuild/bbs-3.22-bioc-rapid/R/site-library --timings BiocPkgTools_1.27.9.tar.gz StartedAt: 2025-07-24 07:42:26 -0400 (Thu, 24 Jul 2025) EndedAt: 2025-07-24 07:45:56 -0400 (Thu, 24 Jul 2025) EllapsedTime: 210.1 seconds RetCode: 0 Status: OK CheckDir: BiocPkgTools.Rcheck Warnings: 0