Package: zellkonverter Version: 1.19.2 Command: /home/rapidbuild/bbs-3.22-bioc-rapid/R/bin/R CMD INSTALL zellkonverter StartedAt: 2025-10-12 06:15:58 -0400 (Sun, 12 Oct 2025) EndedAt: 2025-10-12 06:16:12 -0400 (Sun, 12 Oct 2025) EllapsedTime: 14.6 seconds RetCode: 0 Status: OK