Package: zellkonverter Version: 1.19.0 Command: /home/rapidbuild/bbs-3.22-bioc-rapid/R/bin/R CMD check --install=check:zellkonverter.install-out.txt --library=/home/rapidbuild/bbs-3.22-bioc-rapid/R/site-library --timings zellkonverter_1.19.0.tar.gz StartedAt: 2025-04-28 09:29:16 -0400 (Mon, 28 Apr 2025) EndedAt: 2025-04-28 09:38:28 -0400 (Mon, 28 Apr 2025) EllapsedTime: 552.7 seconds RetCode: 0 Status: OK CheckDir: zellkonverter.Rcheck Warnings: 0