Package: zellkonverter Version: 1.17.0 Command: /home/rapidbuild/bbs-3.21-bioc-rapid/R/bin/R CMD build --keep-empty-dirs --no-resave-data zellkonverter StartedAt: 2025-02-13 13:35:59 -0500 (Thu, 13 Feb 2025) EndedAt: 2025-02-13 13:36:51 -0500 (Thu, 13 Feb 2025) EllapsedTime: 51.1 seconds RetCode: 0 Status: OK PackageFile: zellkonverter_1.17.0.tar.gz PackageFileSize: 1.127 MiB