Package: widgetTools Version: 1.85.0 Command: /home/rapidbuild/bbs-3.21-bioc-rapid/R/bin/R CMD check --install=check:widgetTools.install-out.txt --library=/home/rapidbuild/bbs-3.21-bioc-rapid/R/site-library --timings widgetTools_1.85.0.tar.gz StartedAt: 2025-02-11 09:59:14 -0500 (Tue, 11 Feb 2025) EndedAt: 2025-02-11 09:59:43 -0500 (Tue, 11 Feb 2025) EllapsedTime: 29.0 seconds RetCode: 0 Status: OK CheckDir: widgetTools.Rcheck Warnings: 0