Package: widgetTools Version: 1.85.0 Command: /home/rapidbuild/bbs-3.21-bioc-rapid/R/bin/R CMD build --keep-empty-dirs --no-resave-data widgetTools StartedAt: 2025-02-11 07:49:53 -0500 (Tue, 11 Feb 2025) EndedAt: 2025-02-11 07:50:03 -0500 (Tue, 11 Feb 2025) EllapsedTime: 10.0 seconds RetCode: 0 Status: OK PackageFile: widgetTools_1.85.0.tar.gz PackageFileSize: 227.4 KiB