Package: vsn Version: 3.75.0 Command: /home/rapidbuild/bbs-3.21-bioc-rapid/R/bin/R CMD INSTALL vsn StartedAt: 2025-02-11 06:14:52 -0500 (Tue, 11 Feb 2025) EndedAt: 2025-02-11 06:14:59 -0500 (Tue, 11 Feb 2025) EllapsedTime: 7.0 seconds RetCode: 0 Status: OK