Package: tximport Version: 1.35.0 Command: /home/rapidbuild/bbs-3.21-bioc-rapid/R/bin/R CMD check --install=check:tximport.install-out.txt --library=/home/rapidbuild/bbs-3.21-bioc-rapid/R/site-library --timings tximport_1.35.0.tar.gz StartedAt: 2025-02-10 09:45:12 -0500 (Mon, 10 Feb 2025) EndedAt: 2025-02-10 09:48:22 -0500 (Mon, 10 Feb 2025) EllapsedTime: 190.0 seconds RetCode: 0 Status: OK CheckDir: tximport.Rcheck Warnings: 0