Package: tximport Version: 1.35.0 Command: /home/rapidbuild/bbs-3.21-bioc-rapid/R/bin/R CMD build --keep-empty-dirs --no-resave-data tximport StartedAt: 2025-02-05 07:44:05 -0500 (Wed, 05 Feb 2025) EndedAt: 2025-02-05 07:44:50 -0500 (Wed, 05 Feb 2025) EllapsedTime: 45.6 seconds RetCode: 0 Status: OK PackageFile: tximport_1.35.0.tar.gz PackageFileSize: 308.3 KiB