Package: tximeta Version: 1.25.2 Command: /home/rapidbuild/bbs-3.21-bioc-rapid/R/bin/R CMD check --install=check:tximeta.install-out.txt --library=/home/rapidbuild/bbs-3.21-bioc-rapid/R/site-library --timings tximeta_1.25.2.tar.gz StartedAt: 2025-02-13 15:20:04 -0500 (Thu, 13 Feb 2025) EndedAt: 2025-02-13 15:25:32 -0500 (Thu, 13 Feb 2025) EllapsedTime: 327.6 seconds RetCode: 0 Status: OK CheckDir: tximeta.Rcheck Warnings: 0