Package: txdbmaker Version: 1.3.1 Command: /home/rapidbuild/bbs-3.21-bioc-rapid/R/bin/R CMD INSTALL txdbmaker StartedAt: 2025-02-05 06:25:12 -0500 (Wed, 05 Feb 2025) EndedAt: 2025-02-05 06:25:47 -0500 (Wed, 05 Feb 2025) EllapsedTime: 34.7 seconds RetCode: 0 Status: OK