Package: txdbmaker Version: 1.3.1 Command: /home/rapidbuild/bbs-3.21-bioc-rapid/R/bin/R CMD check --install=check:txdbmaker.install-out.txt --library=/home/rapidbuild/bbs-3.21-bioc-rapid/R/site-library --timings txdbmaker_1.3.1.tar.gz StartedAt: 2025-02-05 09:39:16 -0500 (Wed, 05 Feb 2025) EndedAt: 2025-02-05 09:48:52 -0500 (Wed, 05 Feb 2025) EllapsedTime: 576.3 seconds RetCode: 0 Status: OK CheckDir: txdbmaker.Rcheck Warnings: 0