Package: txdbmaker Version: 1.3.1 Command: /home/rapidbuild/bbs-3.21-bioc-rapid/R/bin/R CMD build --keep-empty-dirs --no-resave-data txdbmaker StartedAt: 2025-02-05 07:42:47 -0500 (Wed, 05 Feb 2025) EndedAt: 2025-02-05 07:44:04 -0500 (Wed, 05 Feb 2025) EllapsedTime: 77.3 seconds RetCode: 0 Status: OK PackageFile: txdbmaker_1.3.1.tar.gz PackageFileSize: 1010 KiB