Package: treeio Version: 1.33.0 Command: /home/rapidbuild/bbs-3.22-bioc-rapid/R/bin/R CMD build --keep-empty-dirs --no-resave-data treeio StartedAt: 2025-04-30 07:33:23 -0400 (Wed, 30 Apr 2025) EndedAt: 2025-04-30 07:33:30 -0400 (Wed, 30 Apr 2025) EllapsedTime: 7.3 seconds RetCode: 0 Status: OK PackageFile: treeio_1.33.0.tar.gz PackageFileSize: 678.7 KiB