Package: tkWidgets Version: 1.85.0 Command: /home/rapidbuild/bbs-3.21-bioc-rapid/R/bin/R CMD INSTALL tkWidgets StartedAt: 2025-02-05 06:08:45 -0500 (Wed, 05 Feb 2025) EndedAt: 2025-02-05 06:08:50 -0500 (Wed, 05 Feb 2025) EllapsedTime: 5.0 seconds RetCode: 0 Status: OK