Package: tkWidgets Version: 1.85.0 Command: /home/rapidbuild/bbs-3.21-bioc-rapid/R/bin/R CMD check --install=check:tkWidgets.install-out.txt --library=/home/rapidbuild/bbs-3.21-bioc-rapid/R/site-library --timings tkWidgets_1.85.0.tar.gz StartedAt: 2025-02-05 09:38:43 -0500 (Wed, 05 Feb 2025) EndedAt: 2025-02-05 09:39:15 -0500 (Wed, 05 Feb 2025) EllapsedTime: 32.3 seconds RetCode: 0 Status: OK CheckDir: tkWidgets.Rcheck Warnings: 0