Package: tkWidgets Version: 1.85.0 Command: /home/rapidbuild/bbs-3.21-bioc-rapid/R/bin/R CMD build --keep-empty-dirs --no-resave-data tkWidgets StartedAt: 2025-02-05 07:42:26 -0500 (Wed, 05 Feb 2025) EndedAt: 2025-02-05 07:42:39 -0500 (Wed, 05 Feb 2025) EllapsedTime: 13.0 seconds RetCode: 0 Status: OK PackageFile: tkWidgets_1.85.0.tar.gz PackageFileSize: 477.3 KiB