Package: sva Version: 3.55.0 Command: /home/rapidbuild/bbs-3.21-bioc-rapid/R/bin/R CMD INSTALL sva StartedAt: 2025-02-05 06:23:42 -0500 (Wed, 05 Feb 2025) EndedAt: 2025-02-05 06:24:01 -0500 (Wed, 05 Feb 2025) EllapsedTime: 18.2 seconds RetCode: 0 Status: OK