Package: sva Version: 3.59.0 Command: /home/rapidbuild/bbs-3.23-bioc-rapid/R/bin/R CMD build --keep-empty-dirs --no-resave-data sva StartedAt: 2025-11-02 07:25:56 -0500 (Sun, 02 Nov 2025) EndedAt: 2025-11-02 07:26:35 -0500 (Sun, 02 Nov 2025) EllapsedTime: 38.9 seconds RetCode: 0 Status: OK PackageFile: sva_3.59.0.tar.gz PackageFileSize: 442.1 KiB