Package: supraHex Version: 1.45.1 Command: /home/rapidbuild/bbs-3.21-bioc-rapid/R/bin/R CMD INSTALL supraHex StartedAt: 2025-02-13 12:13:44 -0500 (Thu, 13 Feb 2025) EndedAt: 2025-02-13 12:13:50 -0500 (Thu, 13 Feb 2025) EllapsedTime: 6.5 seconds RetCode: 0 Status: OK