Package: snifter Version: 1.17.0 Command: /home/rapidbuild/bbs-3.21-bioc-rapid/R/bin/R CMD build --keep-empty-dirs --no-resave-data snifter StartedAt: 2025-02-15 13:30:23 -0500 (Sat, 15 Feb 2025) EndedAt: 2025-02-15 13:30:49 -0500 (Sat, 15 Feb 2025) EllapsedTime: 26.3 seconds RetCode: 0 Status: OK PackageFile: snifter_1.17.0.tar.gz PackageFileSize: 716.4 KiB