Package: sesame Version: 1.25.3 Command: /home/rapidbuild/bbs-3.21-bioc-rapid/R/bin/R CMD INSTALL sesame StartedAt: 2025-02-05 06:21:13 -0500 (Wed, 05 Feb 2025) EndedAt: 2025-02-05 06:21:44 -0500 (Wed, 05 Feb 2025) EllapsedTime: 31.7 seconds RetCode: 0 Status: OK