Package: sesame Version: 1.25.3 Command: /home/rapidbuild/bbs-3.21-bioc-rapid/R/bin/R CMD check --install=check:sesame.install-out.txt --library=/home/rapidbuild/bbs-3.21-bioc-rapid/R/site-library --timings sesame_1.25.3.tar.gz StartedAt: 2025-02-05 09:27:45 -0500 (Wed, 05 Feb 2025) EndedAt: 2025-02-05 09:39:54 -0500 (Wed, 05 Feb 2025) EllapsedTime: 729.1 seconds RetCode: 0 Status: OK CheckDir: sesame.Rcheck Warnings: 0