Package: sesame Version: 1.25.3 Command: /home/rapidbuild/bbs-3.21-bioc-rapid/R/bin/R CMD build --keep-empty-dirs --no-resave-data sesame StartedAt: 2025-02-05 07:38:05 -0500 (Wed, 05 Feb 2025) EndedAt: 2025-02-05 07:41:54 -0500 (Wed, 05 Feb 2025) EllapsedTime: 229.5 seconds RetCode: 0 Status: OK PackageFile: sesame_1.25.3.tar.gz PackageFileSize: 16.09 MiB