Package: seqLogo Version: 1.73.0 Command: /home/rapidbuild/bbs-3.21-bioc-rapid/R/bin/R CMD INSTALL seqLogo StartedAt: 2025-02-06 06:12:06 -0500 (Thu, 06 Feb 2025) EndedAt: 2025-02-06 06:12:09 -0500 (Thu, 06 Feb 2025) EllapsedTime: 3.0 seconds RetCode: 0 Status: OK