Package: seqLogo Version: 1.75.0 Command: /home/rapidbuild/bbs-3.22-bioc-rapid/R/bin/R CMD check --install=check:seqLogo.install-out.txt --library=/home/rapidbuild/bbs-3.22-bioc-rapid/R/site-library --timings seqLogo_1.75.0.tar.gz StartedAt: 2025-05-01 09:14:09 -0400 (Thu, 01 May 2025) EndedAt: 2025-05-01 09:14:26 -0400 (Thu, 01 May 2025) EllapsedTime: 17.0 seconds RetCode: 0 Status: OK CheckDir: seqLogo.Rcheck Warnings: 0