Package: scran Version: 1.35.0 Command: /home/rapidbuild/bbs-3.21-bioc-rapid/R/bin/R CMD check --install=check:scran.install-out.txt --library=/home/rapidbuild/bbs-3.21-bioc-rapid/R/site-library --timings scran_1.35.0.tar.gz StartedAt: 2025-02-10 09:29:13 -0500 (Mon, 10 Feb 2025) EndedAt: 2025-02-10 09:39:54 -0500 (Mon, 10 Feb 2025) EllapsedTime: 641.2 seconds RetCode: 0 Status: WARNINGS CheckDir: scran.Rcheck Warnings: 1