Package: rtracklayer Version: 1.67.0 Command: /home/rapidbuild/bbs-3.21-bioc-rapid/R/bin/R CMD INSTALL rtracklayer StartedAt: 2025-02-05 06:23:48 -0500 (Wed, 05 Feb 2025) EndedAt: 2025-02-05 06:24:38 -0500 (Wed, 05 Feb 2025) EllapsedTime: 50.3 seconds RetCode: 0 Status: OK