Package: rpx Version: 2.15.0 Command: /home/rapidbuild/bbs-3.21-bioc-rapid/R/bin/R CMD build --keep-empty-dirs --no-resave-data rpx StartedAt: 2025-02-06 07:30:41 -0500 (Thu, 06 Feb 2025) EndedAt: 2025-02-06 07:30:52 -0500 (Thu, 06 Feb 2025) EllapsedTime: 10.3 seconds RetCode: 1 Status: ERROR PackageFile: None PackageFileSize: NA