Package: rhdf5 Version: 2.51.2 Command: /home/rapidbuild/bbs-3.21-bioc-rapid/R/bin/R CMD INSTALL rhdf5 StartedAt: 2025-02-11 06:08:45 -0500 (Tue, 11 Feb 2025) EndedAt: 2025-02-11 06:08:54 -0500 (Tue, 11 Feb 2025) EllapsedTime: 8.9 seconds RetCode: 0 Status: OK