Package: rhdf5 Version: 2.51.2 Command: /home/rapidbuild/bbs-3.21-bioc-rapid/R/bin/R CMD build --keep-empty-dirs --no-resave-data rhdf5 StartedAt: 2025-02-13 13:18:22 -0500 (Thu, 13 Feb 2025) EndedAt: 2025-02-13 13:22:48 -0500 (Thu, 13 Feb 2025) EllapsedTime: 266.8 seconds RetCode: 0 Status: OK PackageFile: rhdf5_2.51.2.tar.gz PackageFileSize: 1.249 MiB