Package: regioneR Version: 1.39.0 Command: /home/rapidbuild/bbs-3.21-bioc-rapid/R/bin/R CMD build --keep-empty-dirs --no-resave-data regioneR StartedAt: 2025-02-11 07:28:00 -0500 (Tue, 11 Feb 2025) EndedAt: 2025-02-11 07:29:36 -0500 (Tue, 11 Feb 2025) EllapsedTime: 96.1 seconds RetCode: 1 Status: ERROR PackageFile: None PackageFileSize: NA