Package: rBiopaxParser Version: 2.47.0 Command: /home/rapidbuild/bbs-3.21-bioc-rapid/R/bin/R CMD INSTALL rBiopaxParser StartedAt: 2025-02-10 06:11:31 -0500 (Mon, 10 Feb 2025) EndedAt: 2025-02-10 06:11:36 -0500 (Mon, 10 Feb 2025) EllapsedTime: 5.0 seconds RetCode: 0 Status: OK