Package: rBiopaxParser Version: 2.47.0 Command: /home/rapidbuild/bbs-3.21-bioc-rapid/R/bin/R CMD build --keep-empty-dirs --no-resave-data rBiopaxParser StartedAt: 2025-02-05 07:25:04 -0500 (Wed, 05 Feb 2025) EndedAt: 2025-02-05 07:25:11 -0500 (Wed, 05 Feb 2025) EllapsedTime: 7.0 seconds RetCode: 0 Status: OK PackageFile: rBiopaxParser_2.47.0.tar.gz PackageFileSize: 897 KiB