Package: qvalue Version: 2.39.0 Command: /home/rapidbuild/bbs-3.21-bioc-rapid/R/bin/R CMD check --install=check:qvalue.install-out.txt --library=/home/rapidbuild/bbs-3.21-bioc-rapid/R/site-library --timings qvalue_2.39.0.tar.gz StartedAt: 2025-02-06 09:13:35 -0500 (Thu, 06 Feb 2025) EndedAt: 2025-02-06 09:14:06 -0500 (Thu, 06 Feb 2025) EllapsedTime: 31.0 seconds RetCode: 0 Status: OK CheckDir: qvalue.Rcheck Warnings: 0